BEGIN:VCALENDAR
VERSION:2.0
PRODID:-//Employee Portal - ECPv6.15.20//NONSGML v1.0//EN
CALSCALE:GREGORIAN
METHOD:PUBLISH
X-WR-CALNAME:Employee Portal
X-ORIGINAL-URL:https://portal.mvcommunityservices.org
X-WR-CALDESC:Events for Employee Portal
REFRESH-INTERVAL;VALUE=DURATION:PT1H
X-Robots-Tag:noindex
X-PUBLISHED-TTL:PT1H
BEGIN:VTIMEZONE
TZID:America/New_York
BEGIN:DAYLIGHT
TZOFFSETFROM:-0500
TZOFFSETTO:-0400
TZNAME:EDT
DTSTART:20240310T070000
END:DAYLIGHT
BEGIN:STANDARD
TZOFFSETFROM:-0400
TZOFFSETTO:-0500
TZNAME:EST
DTSTART:20241103T060000
END:STANDARD
BEGIN:DAYLIGHT
TZOFFSETFROM:-0500
TZOFFSETTO:-0400
TZNAME:EDT
DTSTART:20250309T070000
END:DAYLIGHT
BEGIN:STANDARD
TZOFFSETFROM:-0400
TZOFFSETTO:-0500
TZNAME:EST
DTSTART:20251102T060000
END:STANDARD
BEGIN:DAYLIGHT
TZOFFSETFROM:-0500
TZOFFSETTO:-0400
TZNAME:EDT
DTSTART:20260308T070000
END:DAYLIGHT
BEGIN:STANDARD
TZOFFSETFROM:-0400
TZOFFSETTO:-0500
TZNAME:EST
DTSTART:20261101T060000
END:STANDARD
END:VTIMEZONE
BEGIN:VEVENT
DTSTART;TZID=America/New_York:20250826T153000
DTEND;TZID=America/New_York:20250826T180000
DTSTAMP:20260425T081231
CREATED:20250731T181001Z
LAST-MODIFIED:20250731T181001Z
UID:6120-1756222200-1756231200@portal.mvcommunityservices.org
SUMMARY:IWYC/MV Family Resource Center's annual BACK TO SCHOOL CELEBRATION
DESCRIPTION:Island families – you’re invited to IWYC/MV Family Resource Center’s annual: Back to School Celebration \nEvent is free and open to any Martha’s Vineyard K-12 student\, if you need school supplies sign-up below. Pre-registration required in order to receive free school supplies: \nEligibility for free school supplies:\n– Existing client of IWYC or will complete brief intake paperwork\n– Priority to families with financial needs\n– Child is K-12 student at Martha’s Vineyard public school or Charter School \nPre-register by Wednesday 8/20 @ https://forms.gle/E9VgB8UqQqyXryuh9 \nContact Ali Geroche (ageroche@mvcommunityservices.org) with any questions! \nIf you would like to donate school supplies\, please follow us on social media for instructions for donating at your local library: Instagram @mvfamilyresourcecenter Facebook: @iwycmv \nIf you don’t need supplies\, feel free to drop-in for activities and resources!
URL:https://portal.mvcommunityservices.org/event/iwyc-mv-family-resource-centers-annual-back-to-school-celebration/
LOCATION:MVRHS
CATEGORIES:IWYC
ORGANIZER;CN="Ali Geroche":MAILTO:ageroche@mvcommunityservices.org
END:VEVENT
END:VCALENDAR