BEGIN:VCALENDAR
VERSION:2.0
PRODID:-//Employee Portal - ECPv6.15.20//NONSGML v1.0//EN
CALSCALE:GREGORIAN
METHOD:PUBLISH
X-ORIGINAL-URL:https://portal.mvcommunityservices.org
X-WR-CALDESC:Events for Employee Portal
REFRESH-INTERVAL;VALUE=DURATION:PT1H
X-Robots-Tag:noindex
X-PUBLISHED-TTL:PT1H
BEGIN:VTIMEZONE
TZID:America/New_York
BEGIN:DAYLIGHT
TZOFFSETFROM:-0500
TZOFFSETTO:-0400
TZNAME:EDT
DTSTART:20210314T070000
END:DAYLIGHT
BEGIN:STANDARD
TZOFFSETFROM:-0400
TZOFFSETTO:-0500
TZNAME:EST
DTSTART:20211107T060000
END:STANDARD
BEGIN:DAYLIGHT
TZOFFSETFROM:-0500
TZOFFSETTO:-0400
TZNAME:EDT
DTSTART:20220313T070000
END:DAYLIGHT
BEGIN:STANDARD
TZOFFSETFROM:-0400
TZOFFSETTO:-0500
TZNAME:EST
DTSTART:20221106T060000
END:STANDARD
BEGIN:DAYLIGHT
TZOFFSETFROM:-0500
TZOFFSETTO:-0400
TZNAME:EDT
DTSTART:20230312T070000
END:DAYLIGHT
BEGIN:STANDARD
TZOFFSETFROM:-0400
TZOFFSETTO:-0500
TZNAME:EST
DTSTART:20231105T060000
END:STANDARD
BEGIN:DAYLIGHT
TZOFFSETFROM:-0500
TZOFFSETTO:-0400
TZNAME:EDT
DTSTART:20240310T070000
END:DAYLIGHT
BEGIN:STANDARD
TZOFFSETFROM:-0400
TZOFFSETTO:-0500
TZNAME:EST
DTSTART:20241103T060000
END:STANDARD
BEGIN:DAYLIGHT
TZOFFSETFROM:-0500
TZOFFSETTO:-0400
TZNAME:EDT
DTSTART:20250309T070000
END:DAYLIGHT
BEGIN:STANDARD
TZOFFSETFROM:-0400
TZOFFSETTO:-0500
TZNAME:EST
DTSTART:20251102T060000
END:STANDARD
BEGIN:DAYLIGHT
TZOFFSETFROM:-0500
TZOFFSETTO:-0400
TZNAME:EDT
DTSTART:20260308T070000
END:DAYLIGHT
BEGIN:STANDARD
TZOFFSETFROM:-0400
TZOFFSETTO:-0500
TZNAME:EST
DTSTART:20261101T060000
END:STANDARD
BEGIN:DAYLIGHT
TZOFFSETFROM:-0500
TZOFFSETTO:-0400
TZNAME:EDT
DTSTART:20270314T070000
END:DAYLIGHT
BEGIN:STANDARD
TZOFFSETFROM:-0400
TZOFFSETTO:-0500
TZNAME:EST
DTSTART:20271107T060000
END:STANDARD
END:VTIMEZONE
BEGIN:VEVENT
DTSTART;TZID=America/New_York:20260128T180000
DTEND;TZID=America/New_York:20260128T200000
DTSTAMP:20260424T183903
CREATED:20260114T132157Z
LAST-MODIFIED:20260114T132157Z
UID:7317-1769623200-1769630400@portal.mvcommunityservices.org
SUMMARY:January Craft with Connect
DESCRIPTION: 
URL:https://portal.mvcommunityservices.org/event/january-craft-with-connect/
LOCATION:MA
CATEGORIES:CONNECT
ORGANIZER;CN="CONNECT to End Violence":MAILTO:emedeiros@mvcommunityservices,org
END:VEVENT
BEGIN:VEVENT
DTSTART;TZID=America/New_York:20260126T173000
DTEND;TZID=America/New_York:20260126T183000
DTSTAMP:20260424T183903
CREATED:20260114T132600Z
LAST-MODIFIED:20260114T132600Z
UID:7326-1769448600-1769452200@portal.mvcommunityservices.org
SUMMARY:January Survivor Dinner
DESCRIPTION:
URL:https://portal.mvcommunityservices.org/event/january-survivor-dinner/
LOCATION:MA
CATEGORIES:CONNECT
ORGANIZER;CN="CONNECT to End Violence":MAILTO:emedeiros@mvcommunityservices,org
END:VEVENT
BEGIN:VEVENT
DTSTART;TZID=America/New_York:20251231T180000
DTEND;TZID=America/New_York:20251231T200000
DTSTAMP:20260424T183903
CREATED:20251219T193627Z
LAST-MODIFIED:20251219T205801Z
UID:7209-1767204000-1767211200@portal.mvcommunityservices.org
SUMMARY:Fist Night Martha's Vineyard
DESCRIPTION:The 2025/26 New Year will mark 25 years since the last First Night event on Martha’s Vineyard. The Martha’s Vineyard Youth Task Force\, in collaboration with Visit Vineyard Haven\, is planning a First Night event for families from 6 to 8 pm on Dec. 31\, and they are seeking nonprofits to participate. If you are interested and want to learn more\, please reach out to Angela Knapp at aknapp@mvyouthtaskforce.org.
URL:https://portal.mvcommunityservices.org/event/7209/
LOCATION:Vineyard Playhouse\, 24 Church Street\, Vineyard Haven\, MA\, 02568\, United States
CATEGORIES:CONNECT,Early Childhood,IWYC,Peer Recovery Support Center
END:VEVENT
BEGIN:VEVENT
DTSTART;TZID=America/New_York:20251215T120000
DTEND;TZID=America/New_York:20251215T130000
DTSTAMP:20260424T183903
CREATED:20251209T180749Z
LAST-MODIFIED:20251209T180802Z
UID:7164-1765800000-1765803600@portal.mvcommunityservices.org
SUMMARY:Open House for MVCS Staff at CONNECT to End Violence
DESCRIPTION:
URL:https://portal.mvcommunityservices.org/event/open-house-for-mvcs-staff-at-connect-to-end-violence/
LOCATION:MA
CATEGORIES:CONNECT
ORGANIZER;CN="CONNECT to End Violence":MAILTO:emedeiros@mvcommunityservices,org
END:VEVENT
BEGIN:VEVENT
DTSTART;TZID=America/New_York:20251210T170000
DTEND;TZID=America/New_York:20251210T170000
DTSTAMP:20260424T183903
CREATED:20251201T202242Z
LAST-MODIFIED:20251201T202242Z
UID:7144-1765386000-1765386000@portal.mvcommunityservices.org
SUMMARY:Craft with CONNECT - Wintergreens Centerpiece Craft Night
DESCRIPTION:Craft with CONNECT\nWintergreens Centerpiece Craft Night \nWednesday\, December 10th at 5pm \nThis month\, CONNECT is hosting a craft night where we’ll be making wintergreens centerpieces. All materials\, as well as some light snacks and refreshments\, will be provided at no cost to participants. \nTo learn more or to register\, please email Emily at emedeiros@mvcommunityservices.org. \nLocation given upon registration. \n \nCONNECT to End Violence is a program of Martha’s Vineyard Community Services\, Inc. Funding is provided by the MA\nDepartment of Public Health\, the MA Office of Victim Assistance\, Victims of Crime Act\, and by private contributions\nCONNECT to End Violence\n24-Hour Crisis Hotline\n508-696-SAFE (7233)
URL:https://portal.mvcommunityservices.org/event/craft-with-connect-wintergreens-centerpiece-craft-night/
LOCATION:MA
CATEGORIES:CONNECT
ORGANIZER;CN="CONNECT to End Violence":MAILTO:hmeader@mvcommunityservices,org
END:VEVENT
BEGIN:VEVENT
DTSTART;TZID=America/New_York:20251124T111500
DTEND;TZID=America/New_York:20251124T163000
DTSTAMP:20260424T183903
CREATED:20251113T200943Z
LAST-MODIFIED:20251113T200943Z
UID:6976-1763982900-1764001800@portal.mvcommunityservices.org
SUMMARY:CONNECT: Sweet and Savory Retreat
DESCRIPTION:CONNECT is hosting a retreat called Sweet and Savory on Monday\, November 24th 11:15am-4:30pm at the IWYC kitchen. This is an event for teens who have been impacted by teen dating violence\, family violence\, or domestic and/or sexual violence\, whether directly or indirectly. During the event\, participants will be cooking and doing some fun activities with the help of Island Grown Initiative. It’s an opportunity to practice self-care and connect with other peers with similar experiences. \nAll supplies will be provided\, and no experience is necessary to participate in the group. The session will be facilitated by Pricila Vilaça and Chesca Quinlan-Potter\, trained Domestic Violence and Rape Crisis Counselors at CONNECT to End Violence/MVCS. Participants and facilitators are expected to sign a statement in order to preserve the confidentiality of the group. \nWe ask that participants sign and return the permission slip to cpotter@mvcommunityservices.org by November 21st\, 2025. If you have further questions or concerns\, please contact Chesca Quinlan-Potter at 508-560-3878.  Sweet and Savory Permission Slip \nPlease feel free to share this event with clients who may be interested. \n         
URL:https://portal.mvcommunityservices.org/event/connect-sweet-and-savory-retreat/
LOCATION:IWYC Conference Room
CATEGORIES:CONNECT
ORGANIZER;CN="CONNECT to End Violence":MAILTO:emedeiros@mvcommunityservices,org
END:VEVENT
BEGIN:VEVENT
DTSTART;TZID=America/New_York:20251011T140000
DTEND;TZID=America/New_York:20251011T210000
DTSTAMP:20260424T183903
CREATED:20250806T150813Z
LAST-MODIFIED:20250926T185907Z
UID:6166-1760191200-1760216400@portal.mvcommunityservices.org
SUMMARY:LADYFEST Martha’s Vineyard Music Festival
DESCRIPTION:Celebrating female-fueled music on Martha’s Vineyard \n\nLADYFEST is an annual music festival in Oak Bluffs\, MA on the island of Martha’s Vineyard. It was co-founded by Rose Guerin and Kelly Feirtag in 2017\, with special assistance by The Ritz Cafe owner\, Larkin Stallings. \n​LADYFEST raises awareness and funds for CONNECT TO END VIOLENCE\, a dual domestic violence program and rape crisis center on Martha’s Vineyard. \n​The event features artists from many genres including rock\, soul\, electronic\, and pop.  Artisans and food vendors line the venue selling food\, jewelry\, clothing\, artwork\, and more.
URL:https://portal.mvcommunityservices.org/event/ladyfest-marthas-vineyard-music-festival/
LOCATION:Waban Alley Park\, Waban Alley Park\, Oak Bluffs\, MA\, 02539\, United States
CATEGORIES:CONNECT,MV Community
END:VEVENT
BEGIN:VEVENT
DTSTART;TZID=America/New_York:20250816T090000
DTEND;TZID=America/New_York:20250816T150000
DTSTAMP:20260424T183903
CREATED:20250813T134739Z
LAST-MODIFIED:20250813T134739Z
UID:6221-1755334800-1755356400@portal.mvcommunityservices.org
SUMMARY:SMASH THE SILENCE PICKLEBALL TOURNAMENT
DESCRIPTION:We’re very excited to cohost this event with MVRHS since all the funds raised will go to our collaborative student leadership group SWEAR: Stand With Everyone Against Rape — a MVRHS initiative dedicated to educating students and empowering them to help end gender-based violence. \nThe event will start at 9am at the MV Regional High School courts\, with a rain date of Sunday\, August 17th. \nYou can pre-register here: https://widgets.courtreserve.com/Online/Public/EmbedCode/11945/46753 \nIf pickleball isn’t your sport but you still want to support us\, please consider volunteering at the event. We could use some helping hands directing participants between courts and keeping the event on track. There’s three\, 2-hour shifts available: 9am-11am\, 11am-1pm\, and 1pm-3pm. It’s a great opportunity to support us while also enjoying the sunshine. If you’re interested in volunteering\, please reach out to Jack Pachico\, our Men’s Initiative Specialist\, at JPachico@MVCommunityServices.org
URL:https://portal.mvcommunityservices.org/event/smash-the-silence-pickleball-tournament/
LOCATION:MVRHS
CATEGORIES:CONNECT
END:VEVENT
BEGIN:VEVENT
DTSTART;TZID=America/New_York:20250708T183000
DTEND;TZID=America/New_York:20250708T213000
DTSTAMP:20260424T183903
CREATED:20250618T173712Z
LAST-MODIFIED:20250618T173712Z
UID:5955-1751999400-1752010200@portal.mvcommunityservices.org
SUMMARY:Tisbury Street Fair
DESCRIPTION:COME JOIN US FOR A FESTIVE TIME ON MAIN STREET FOR A FUN-FILLED EVENING. SINK YOUR TEETH INTO A LOBSTER ROLL\, FRIED DOUGH OR ANY OF THE OTHER DELICIOUS TREATS YOU WILL FIND\, PICK UP A TRINKET OR SOUVENIR FROM A LOCAL VENDOR FOR YOUR FRIEND. WE LOOK FORWARD TO SEEING YOU!
URL:https://portal.mvcommunityservices.org/event/tisbury-street-fair/
LOCATION:MA
CATEGORIES:CONNECT,Early Childhood,IWYC
END:VEVENT
BEGIN:VEVENT
DTSTART;TZID=America/New_York:20230216T120000
DTEND;TZID=America/New_York:20230218T170000
DTSTAMP:20260424T183903
CREATED:20230130T175053Z
LAST-MODIFIED:20230130T175053Z
UID:880-1676548800-1676739600@portal.mvcommunityservices.org
SUMMARY:Coffee with Pastors - Outreach to Brazilian Ecclesiastical Authorities
DESCRIPTION:A new exciting and premier event by MVCS for ecclesiastical authorities from the Brazilian community. CONNECT’s Outreach Coordinator Pricila Vilaça conceived of this concept and is the lead organizer of the event\, Coffee with Pastors. \n The purpose of Coffee with Pastors is to present and share MVCS services and resources to religious leaders and their co-Pastors so they can then bring the information back to the members of their churches.  To be culturally appropriate and respectful\, the goal is to keep this event as intimate as possible with one employee representative from each program following Beth’s welcoming remarks. This representative will share an overview of what resources are available when needs may arise and how to access them within their respective congregations. In addition to the sharing of information\, we are looking forward to the opportunity to build a foundation for ongoing relationships.
URL:https://portal.mvcommunityservices.org/event/coffee-with-pastors-outreach-to-brazilian-ecclesiastical-authorities/
LOCATION:Main Campus
CATEGORIES:CONNECT
END:VEVENT
BEGIN:VEVENT
DTSTART;TZID=America/New_York:20221207T173000
DTEND;TZID=America/New_York:20221207T193000
DTSTAMP:20260424T183903
CREATED:20221201T164726Z
LAST-MODIFIED:20221201T164726Z
UID:728-1670434200-1670441400@portal.mvcommunityservices.org
SUMMARY:Your Power as a Difference Maker
DESCRIPTION:
URL:https://portal.mvcommunityservices.org/event/your-power-as-a-difference-maker/
LOCATION:MVRHS PAC
CATEGORIES:CONNECT
END:VEVENT
END:VCALENDAR