BEGIN:VCALENDAR
VERSION:2.0
PRODID:-//Employee Portal - ECPv6.15.20//NONSGML v1.0//EN
CALSCALE:GREGORIAN
METHOD:PUBLISH
X-WR-CALNAME:Employee Portal
X-ORIGINAL-URL:https://portal.mvcommunityservices.org
X-WR-CALDESC:Events for Employee Portal
REFRESH-INTERVAL;VALUE=DURATION:PT1H
X-Robots-Tag:noindex
X-PUBLISHED-TTL:PT1H
BEGIN:VTIMEZONE
TZID:America/New_York
BEGIN:DAYLIGHT
TZOFFSETFROM:-0500
TZOFFSETTO:-0400
TZNAME:EDT
DTSTART:20240310T070000
END:DAYLIGHT
BEGIN:STANDARD
TZOFFSETFROM:-0400
TZOFFSETTO:-0500
TZNAME:EST
DTSTART:20241103T060000
END:STANDARD
BEGIN:DAYLIGHT
TZOFFSETFROM:-0500
TZOFFSETTO:-0400
TZNAME:EDT
DTSTART:20250309T070000
END:DAYLIGHT
BEGIN:STANDARD
TZOFFSETFROM:-0400
TZOFFSETTO:-0500
TZNAME:EST
DTSTART:20251102T060000
END:STANDARD
BEGIN:DAYLIGHT
TZOFFSETFROM:-0500
TZOFFSETTO:-0400
TZNAME:EDT
DTSTART:20260308T070000
END:DAYLIGHT
BEGIN:STANDARD
TZOFFSETFROM:-0400
TZOFFSETTO:-0500
TZNAME:EST
DTSTART:20261101T060000
END:STANDARD
END:VTIMEZONE
BEGIN:VEVENT
DTSTART;TZID=America/New_York:20250905T100000
DTEND;TZID=America/New_York:20250905T230000
DTSTAMP:20260425T062110
CREATED:20250806T144917Z
LAST-MODIFIED:20250806T145818Z
UID:6155-1757066400-1757113200@portal.mvcommunityservices.org
SUMMARY:First Friday Vineyard Haven
DESCRIPTION:First Friday is a free community-inspired outdoor event in Vineyard Haven\, Martha’s Vineyard. Started in 2016 and based on the nation-wide “First Friday” art walks\, we celebrate the local art and culture of our island each first Friday of the month June – October and December. Running all throughout our Vineyard Haven Harbor Cultural District\, you can walk right off the ferry and into the middle of our harbor town. \n\n\n\n\n\nActivity locations include In-Town\, Beach St. Extension\, & Owen Park
URL:https://portal.mvcommunityservices.org/event/first-friday-vineyard-haven/
LOCATION:Vineyard Haven Harbor Cultural District\, Owen Park Way\, Vineyard Haven\, MA\, 02532\, United States
CATEGORIES:Early Childhood,MV Community
END:VEVENT
BEGIN:VEVENT
DTSTART;TZID=America/New_York:20250920T100000
DTEND;TZID=America/New_York:20250920T180000
DTSTAMP:20260425T062110
CREATED:20250806T142430Z
LAST-MODIFIED:20250917T175443Z
UID:6148-1758362400-1758391200@portal.mvcommunityservices.org
SUMMARY:Oak Bluffs Tivoli Day Festival 2025
DESCRIPTION:Annual End of Summer Celebration Happening on Circuit Ave!\nLIVE MUSIC – LOCAL ARTISTS – CRAFTS – GREAT FOOD – BIG SALES – FAMILY FUN\n \nWave goodbye to summer and join the annual Tivoli Day street fair and block party. Tivoli Day\, an old-fashioned September festival downtown Oak Bluffs has been MV’s tradition for 4 decades. It’s a day to celebrate all the hard work of the summer and to welcome beautiful Island fall. Live entertainment\, street vendors\, bargains\, music & dancing\, arts\, end-of-the-summer sales\, great food and more food. \nSaturday\, September 20th 2025 | 10:00am – 6:00pm \nRAIN DATE: Sunday\, September 21st 2025
URL:https://portal.mvcommunityservices.org/event/oak-bluffs-tivoli-day-festival-2025/
LOCATION:Circuit Avenue\, Circuit Ave\, Oak Bluffs\, MA\, 02539\, United States
CATEGORIES:Early Childhood,MV Community,Peer Recovery Support Center
END:VEVENT
END:VCALENDAR