BEGIN:VCALENDAR
VERSION:2.0
PRODID:-//Employee Portal - ECPv6.15.20//NONSGML v1.0//EN
CALSCALE:GREGORIAN
METHOD:PUBLISH
X-ORIGINAL-URL:https://portal.mvcommunityservices.org
X-WR-CALDESC:Events for Employee Portal
REFRESH-INTERVAL;VALUE=DURATION:PT1H
X-Robots-Tag:noindex
X-PUBLISHED-TTL:PT1H
BEGIN:VTIMEZONE
TZID:America/New_York
BEGIN:DAYLIGHT
TZOFFSETFROM:-0500
TZOFFSETTO:-0400
TZNAME:EDT
DTSTART:20250309T070000
END:DAYLIGHT
BEGIN:STANDARD
TZOFFSETFROM:-0400
TZOFFSETTO:-0500
TZNAME:EST
DTSTART:20251102T060000
END:STANDARD
BEGIN:DAYLIGHT
TZOFFSETFROM:-0500
TZOFFSETTO:-0400
TZNAME:EDT
DTSTART:20260308T070000
END:DAYLIGHT
BEGIN:STANDARD
TZOFFSETFROM:-0400
TZOFFSETTO:-0500
TZNAME:EST
DTSTART:20261101T060000
END:STANDARD
BEGIN:DAYLIGHT
TZOFFSETFROM:-0500
TZOFFSETTO:-0400
TZNAME:EDT
DTSTART:20270314T070000
END:DAYLIGHT
BEGIN:STANDARD
TZOFFSETFROM:-0400
TZOFFSETTO:-0500
TZNAME:EST
DTSTART:20271107T060000
END:STANDARD
END:VTIMEZONE
BEGIN:VEVENT
DTSTART;VALUE=DATE:20260613
DTEND;VALUE=DATE:20260615
DTSTAMP:20260424T190405
CREATED:20260414T152701Z
LAST-MODIFIED:20260414T153621Z
UID:8155-1781308800-1781481599@portal.mvcommunityservices.org
SUMMARY:2026 Pride Weekend
DESCRIPTION:Celebrate Pride on Martha’s Vineyard!\n\n\n\n\n\nKick off the weekend with a high-energy dance party at the iconic dive bar\, The Ritz. March with pride in the vibrant Oak Bluffs parade\, and close out the festivities with an incredible drag show you won’t forget. It’s a weekend full of love\, unity\, and unforgettable moments on the Island of Martha’s Vineyard. \nCome as you are and shine with us!
URL:https://portal.mvcommunityservices.org/event/2026-pride-weekend/
LOCATION:Ocean Park Gazebo\, Oak Bluffs
CATEGORIES:IWYC,MV Community
END:VEVENT
END:VCALENDAR