BEGIN:VCALENDAR
VERSION:2.0
PRODID:-//Employee Portal - ECPv6.15.20//NONSGML v1.0//EN
CALSCALE:GREGORIAN
METHOD:PUBLISH
X-ORIGINAL-URL:https://portal.mvcommunityservices.org
X-WR-CALDESC:Events for Employee Portal
REFRESH-INTERVAL;VALUE=DURATION:PT1H
X-Robots-Tag:noindex
X-PUBLISHED-TTL:PT1H
BEGIN:VTIMEZONE
TZID:America/New_York
BEGIN:DAYLIGHT
TZOFFSETFROM:-0500
TZOFFSETTO:-0400
TZNAME:EDT
DTSTART:20240310T070000
END:DAYLIGHT
BEGIN:STANDARD
TZOFFSETFROM:-0400
TZOFFSETTO:-0500
TZNAME:EST
DTSTART:20241103T060000
END:STANDARD
BEGIN:DAYLIGHT
TZOFFSETFROM:-0500
TZOFFSETTO:-0400
TZNAME:EDT
DTSTART:20250309T070000
END:DAYLIGHT
BEGIN:STANDARD
TZOFFSETFROM:-0400
TZOFFSETTO:-0500
TZNAME:EST
DTSTART:20251102T060000
END:STANDARD
BEGIN:DAYLIGHT
TZOFFSETFROM:-0500
TZOFFSETTO:-0400
TZNAME:EDT
DTSTART:20260308T070000
END:DAYLIGHT
BEGIN:STANDARD
TZOFFSETFROM:-0400
TZOFFSETTO:-0500
TZNAME:EST
DTSTART:20261101T060000
END:STANDARD
END:VTIMEZONE
BEGIN:VEVENT
DTSTART;TZID=America/New_York:20250820T193000
DTEND;TZID=America/New_York:20250820T210000
DTSTAMP:20260425T114557
CREATED:20250806T135805Z
LAST-MODIFIED:20250806T135805Z
UID:6138-1755718200-1755723600@portal.mvcommunityservices.org
SUMMARY:The Grand Illumination (Illumination Night)
DESCRIPTION:Each year\, as dusk falls on Illumination Night\, thousands of colorful paper lanterns are lit simultaneously\, casting a magical glow over the cottages and creating an unforgettable sight for all who attend. The event begins with a community sing-along inside the Tabernacle\, an open-air\, octagonal structure at the heart of the MVCMA. As the final notes of the songs fade\, the lanterns are illuminated\, and the night truly comes alive. \nVisitors are invited to stroll through the maze of cottages\, each uniquely decorated and glowing with the soft light of the lanterns. It’s a night that transports you back in time\, allowing you to experience the charm and history of Martha’s Vineyard in a truly special way. The Grand Illumination is not just a celebration of the island’s past\, but also a testament to the strong sense of community that continues to thrive here. \nAttending Illumination Night is a must for anyone visiting Martha’s Vineyard in August. Whether you’re a first-time visitor or a seasoned traveler\, this magical event offers a unique glimpse into the island’s rich history and enduring traditions. Best of all\, it’s free and open to the public\, with donations welcomed to support the MVCMA. So\, mark your calendar\, plan your trip\, and experience the timeless magic of the Grand Illumination on Martha’s Vineyard—a night you’ll never forget. \nThe event is supported with a free will offering – grateful for the generosity of everyone who visits\, participates\, and donates what they can to make this magical evening possible.
URL:https://portal.mvcommunityservices.org/event/the-grand-illumination-illumination-night/
LOCATION:Martha’s Vineyard Camp Meeting Association (MVCMA) grounds\, 80 Trinity Park\, Oak Bluffs\, MA\, 02557\, United States
CATEGORIES:MV Community
END:VEVENT
END:VCALENDAR