BEGIN:VCALENDAR
VERSION:2.0
PRODID:-//Employee Portal - ECPv6.15.20//NONSGML v1.0//EN
CALSCALE:GREGORIAN
METHOD:PUBLISH
X-WR-CALNAME:Employee Portal
X-ORIGINAL-URL:https://portal.mvcommunityservices.org
X-WR-CALDESC:Events for Employee Portal
REFRESH-INTERVAL;VALUE=DURATION:PT1H
X-Robots-Tag:noindex
X-PUBLISHED-TTL:PT1H
BEGIN:VTIMEZONE
TZID:America/New_York
BEGIN:DAYLIGHT
TZOFFSETFROM:-0500
TZOFFSETTO:-0400
TZNAME:EDT
DTSTART:20240310T070000
END:DAYLIGHT
BEGIN:STANDARD
TZOFFSETFROM:-0400
TZOFFSETTO:-0500
TZNAME:EST
DTSTART:20241103T060000
END:STANDARD
BEGIN:DAYLIGHT
TZOFFSETFROM:-0500
TZOFFSETTO:-0400
TZNAME:EDT
DTSTART:20250309T070000
END:DAYLIGHT
BEGIN:STANDARD
TZOFFSETFROM:-0400
TZOFFSETTO:-0500
TZNAME:EST
DTSTART:20251102T060000
END:STANDARD
BEGIN:DAYLIGHT
TZOFFSETFROM:-0500
TZOFFSETTO:-0400
TZNAME:EDT
DTSTART:20260308T070000
END:DAYLIGHT
BEGIN:STANDARD
TZOFFSETFROM:-0400
TZOFFSETTO:-0500
TZNAME:EST
DTSTART:20261101T060000
END:STANDARD
END:VTIMEZONE
BEGIN:VEVENT
DTSTART;TZID=America/New_York:20250907T120000
DTEND;TZID=America/New_York:20250907T170000
DTSTAMP:20260425T095712
CREATED:20250806T143339Z
LAST-MODIFIED:20250806T143339Z
UID:6152-1757246400-1757264400@portal.mvcommunityservices.org
SUMMARY:13th Annual Martha's Vineyard Wind Festival
DESCRIPTION:Welcome to the 13th Annual Martha’s Vineyard Wind Festival!​\n\n\nThis September 7th\, come enjoy a day that is still full of summer breezes!  Bring a picnic and enjoy spending time with friends and family in beautiful Ocean Park on Martha’s Vineyard. \nEvents include kite making and model sailboat racing for children\, and kite flying and frisbee games for young and old.  There will be prizes for all ages in the categories listed on this site. \nThis is a free event with no registration fees.  See you in September for a great day of fun and relaxation! \n\nRain date – September 8th
URL:https://portal.mvcommunityservices.org/event/13th-annual-marthas-vineyard-wind-festival/
LOCATION:Ocean Park Gazebo\, Oak Bluffs
CATEGORIES:MV Community
END:VEVENT
END:VCALENDAR