BEGIN:VCALENDAR
VERSION:2.0
PRODID:-//Employee Portal - ECPv6.15.20//NONSGML v1.0//EN
CALSCALE:GREGORIAN
METHOD:PUBLISH
X-WR-CALNAME:Employee Portal
X-ORIGINAL-URL:https://portal.mvcommunityservices.org
X-WR-CALDESC:Events for Employee Portal
REFRESH-INTERVAL;VALUE=DURATION:PT1H
X-Robots-Tag:noindex
X-PUBLISHED-TTL:PT1H
BEGIN:VTIMEZONE
TZID:America/New_York
BEGIN:DAYLIGHT
TZOFFSETFROM:-0500
TZOFFSETTO:-0400
TZNAME:EDT
DTSTART:20250309T070000
END:DAYLIGHT
BEGIN:STANDARD
TZOFFSETFROM:-0400
TZOFFSETTO:-0500
TZNAME:EST
DTSTART:20251102T060000
END:STANDARD
BEGIN:DAYLIGHT
TZOFFSETFROM:-0500
TZOFFSETTO:-0400
TZNAME:EDT
DTSTART:20260308T070000
END:DAYLIGHT
BEGIN:STANDARD
TZOFFSETFROM:-0400
TZOFFSETTO:-0500
TZNAME:EST
DTSTART:20261101T060000
END:STANDARD
BEGIN:DAYLIGHT
TZOFFSETFROM:-0500
TZOFFSETTO:-0400
TZNAME:EDT
DTSTART:20270314T070000
END:DAYLIGHT
BEGIN:STANDARD
TZOFFSETFROM:-0400
TZOFFSETTO:-0500
TZNAME:EST
DTSTART:20271107T060000
END:STANDARD
END:VTIMEZONE
BEGIN:VEVENT
DTSTART;TZID=America/New_York:20260919T100000
DTEND;TZID=America/New_York:20260919T180000
DTSTAMP:20260425T094214
CREATED:20251030T160409Z
LAST-MODIFIED:20251113T174913Z
UID:6926-1789812000-1789840800@portal.mvcommunityservices.org
SUMMARY:Tivoli Day 2026
DESCRIPTION:Annual End of Summer Celebration Happening on Circuit Ave!\nLIVE MUSIC – LOCAL ARTISTS – CRAFTS – GREAT FOOD – BIG SALES – FAMILY FUN\n \nWave goodbye to summer and join the annual Tivoli Day street fair and block party. Tivoli Day\, an old-fashioned September festival downtown Oak Bluffs has been MV’s tradition for 4 decades. It’s a day to celebrate all the hard work of the summer and to welcome beautiful Island fall. Live entertainment\, street vendors\, bargains\, music & dancing\, arts\, end-of-the-summer sales\, great food and more food. \nSaturday\, September 19th 2026 | 10:00am – 6:00pm\nRAIN DATE: Sunday\, September 2oth 2026
URL:https://portal.mvcommunityservices.org/event/tivoli-day/
LOCATION:MA
CATEGORIES:MV Community
END:VEVENT
BEGIN:VEVENT
DTSTART;VALUE=DATE:20261003
DTEND;VALUE=DATE:20261004
DTSTAMP:20260425T094214
CREATED:20260414T153417Z
LAST-MODIFIED:20260414T153417Z
UID:8157-1790985600-1791071999@portal.mvcommunityservices.org
SUMMARY:Ladyfest 2026
DESCRIPTION:Celebrating female-fueled music on Martha’s Vineyard \n\n\nLADYFEST is an annual music festival in Oak Bluffs\, MA on the island of Martha’s Vineyard. It was co-founded by Rose Guerin and Kelly Feirtag in 2017\, with special assistance by The Ritz Cafe owner\, Larkin Stallings. \nLADYFEST raises awareness and funds for CONNECT TO END VIOLENCE\, a dual domestic violence program and rape crisis center on Martha’s Vineyard. \nThe event features artists from many genres including rock\, soul\, electronic\, and pop.  Artisans and food vendors line the venue selling food\, jewelry\, clothing\, artwork\, and more.
URL:https://portal.mvcommunityservices.org/event/ladyfest-2026/
LOCATION:Waban Alley Park\, Waban Alley Park\, Oak Bluffs\, MA\, 02539\, United States
CATEGORIES:CONNECT,MV Community
ORGANIZER;CN="CONNECT to End Violence":MAILTO:emedeiros@mvcommunityservices,org
END:VEVENT
END:VCALENDAR