BEGIN:VCALENDAR
VERSION:2.0
PRODID:-//Employee Portal - ECPv6.15.20//NONSGML v1.0//EN
CALSCALE:GREGORIAN
METHOD:PUBLISH
X-WR-CALNAME:Employee Portal
X-ORIGINAL-URL:https://portal.mvcommunityservices.org
X-WR-CALDESC:Events for Employee Portal
REFRESH-INTERVAL;VALUE=DURATION:PT1H
X-Robots-Tag:noindex
X-PUBLISHED-TTL:PT1H
BEGIN:VTIMEZONE
TZID:America/New_York
BEGIN:DAYLIGHT
TZOFFSETFROM:-0500
TZOFFSETTO:-0400
TZNAME:EDT
DTSTART:20250309T070000
END:DAYLIGHT
BEGIN:STANDARD
TZOFFSETFROM:-0400
TZOFFSETTO:-0500
TZNAME:EST
DTSTART:20251102T060000
END:STANDARD
BEGIN:DAYLIGHT
TZOFFSETFROM:-0500
TZOFFSETTO:-0400
TZNAME:EDT
DTSTART:20260308T070000
END:DAYLIGHT
BEGIN:STANDARD
TZOFFSETFROM:-0400
TZOFFSETTO:-0500
TZNAME:EST
DTSTART:20261101T060000
END:STANDARD
BEGIN:DAYLIGHT
TZOFFSETFROM:-0500
TZOFFSETTO:-0400
TZNAME:EDT
DTSTART:20270314T070000
END:DAYLIGHT
BEGIN:STANDARD
TZOFFSETFROM:-0400
TZOFFSETTO:-0500
TZNAME:EST
DTSTART:20271107T060000
END:STANDARD
END:VTIMEZONE
BEGIN:VEVENT
DTSTART;TZID=America/New_York:20260708T183000
DTEND;TZID=America/New_York:20260708T213000
DTSTAMP:20260424T201841
CREATED:20251030T153725Z
LAST-MODIFIED:20260414T151310Z
UID:6913-1783535400-1783546200@portal.mvcommunityservices.org
SUMMARY:2026 Tisbury Street Fair
DESCRIPTION:Come join us for a festive time on Main Street for a fun-filled evening. Sink your teeth into a lobster roll\, fried dough\, or any of the other delicious treats you will find\, pick up a trinket or souvenir from a local vendor for your friend. We look forward to seeing you!
URL:https://portal.mvcommunityservices.org/event/tisbury-street-fair-2/
LOCATION:Main Street\, Vineyard Haven
CATEGORIES:MV Community,Peer Recovery Support Center
END:VEVENT
BEGIN:VEVENT
DTSTART;TZID=America/New_York:20260807T100000
DTEND;TZID=America/New_York:20260807T230000
DTSTAMP:20260424T201841
CREATED:20260316T180252Z
LAST-MODIFIED:20260414T151050Z
UID:7979-1786096800-1786143600@portal.mvcommunityservices.org
SUMMARY:First Friday Vineyard Haven
DESCRIPTION:First Friday is a free community-inspired all day event spanning the Vineyard Haven Harbor\, an MCC designated Cultural District on Martha’s Vineyard.\n\n\nStarted in 2017 and based on the nation-wide “First Friday” art walks\, we celebrate the local art and culture of our island each first Friday of the month June – October and December. \n\nWhere and When?\n\n\nAug 7 • Sept 4 • Oct 2 • Dec 4\n\n\nRunning all throughout our Vineyard Haven Harbor Cultural District.You can walk right off the ferry and into the middle of our harbor town. \n\n\n\n\n\nAll Day – Support local businesses in town (some even run specials on First Fridays!) \n​ \n​10am – 2pm – Daytime Art Market on Beach St. Ext. with local artists and participating galleries. \n​ \n5pm – 11pm – Head towards Owen Park for local food and artist vendors\, with live music on the beach followed by a silent disco.
URL:https://portal.mvcommunityservices.org/event/first-friday-vineyard-haven-6/
LOCATION:Vineyard Haven Harbor Cultural District\, Owen Park Way\, Vineyard Haven\, MA\, 02532\, United States
CATEGORIES:Peer Recovery Support Center
END:VEVENT
END:VCALENDAR