BEGIN:VCALENDAR
VERSION:2.0
PRODID:-//Employee Portal - ECPv6.15.20//NONSGML v1.0//EN
CALSCALE:GREGORIAN
METHOD:PUBLISH
X-ORIGINAL-URL:https://portal.mvcommunityservices.org
X-WR-CALDESC:Events for Employee Portal
REFRESH-INTERVAL;VALUE=DURATION:PT1H
X-Robots-Tag:noindex
X-PUBLISHED-TTL:PT1H
BEGIN:VTIMEZONE
TZID:America/New_York
BEGIN:DAYLIGHT
TZOFFSETFROM:-0500
TZOFFSETTO:-0400
TZNAME:EDT
DTSTART:20250309T070000
END:DAYLIGHT
BEGIN:STANDARD
TZOFFSETFROM:-0400
TZOFFSETTO:-0500
TZNAME:EST
DTSTART:20251102T060000
END:STANDARD
BEGIN:DAYLIGHT
TZOFFSETFROM:-0500
TZOFFSETTO:-0400
TZNAME:EDT
DTSTART:20260308T070000
END:DAYLIGHT
BEGIN:STANDARD
TZOFFSETFROM:-0400
TZOFFSETTO:-0500
TZNAME:EST
DTSTART:20261101T060000
END:STANDARD
BEGIN:DAYLIGHT
TZOFFSETFROM:-0500
TZOFFSETTO:-0400
TZNAME:EDT
DTSTART:20270314T070000
END:DAYLIGHT
BEGIN:STANDARD
TZOFFSETFROM:-0400
TZOFFSETTO:-0500
TZNAME:EST
DTSTART:20271107T060000
END:STANDARD
END:VTIMEZONE
BEGIN:VEVENT
DTSTART;TZID=America/New_York:20260808T160000
DTEND;TZID=America/New_York:20260808T180000
DTSTAMP:20260425T115244
CREATED:20260413T155319Z
LAST-MODIFIED:20260413T155335Z
UID:8149-1786204800-1786212000@portal.mvcommunityservices.org
SUMMARY:Possible Dreams 2026
DESCRIPTION:Each summer\, Martha’s Vineyard Community Services brings together friends and neighbors for an unforgettable celebration of generosity and community spirit — Possible Dreams. We are delighted to share that this year marks our 48th annual gathering and we warmly invite you and/or your business to be a part of this cherished island event on Saturday\, August 8\, 2026\, at the historic Allen Farm in Chilmark. \nWe are especially excited to welcome back Seth Meyers as our host for what promises to be an afternoon filled with laughter\, inspiration\, and heart. Year after year\, Possible Dreams delivers more than an extraordinary event — it is the driving force behind the programs and services of Martha’s Vineyard Community Services\, the Island’s umbrella social service agency\, positively impacting thousands of lives across our community. \nAs our largest fundraiser of the year\, Possible Dreams is made possible through the generosity and commitment of our sponsors. Your partnership helps transform big dreams into real impact — supporting mental health services\, early childhood education\, veterans’ programs\, domestic violence prevention\, and so much more. Together\, we strengthen the fabric of our Island and care for our neighbors when they need it most. \nFor further information\, or interest in volunteering\, please reach out to the Development Team\, at events@mvcommunityservices.org.
URL:https://portal.mvcommunityservices.org/event/8149/
LOCATION:Allen Farm\, North Side\, 421 S. Rd.\, Chilmark\, MA\, 02535\, United States
ORGANIZER;CN="Development Dept":MAILTO:events@mvcommunityservices.org
END:VEVENT
BEGIN:VEVENT
DTSTART;TZID=America/New_York:20260813T100000
DTEND;TZID=America/New_York:20260816T190000
DTSTAMP:20260425T115244
CREATED:20251030T154641Z
LAST-MODIFIED:20260414T151224Z
UID:6917-1786615200-1786906800@portal.mvcommunityservices.org
SUMMARY:2026 Martha's Vineyard Agricultural Fair
DESCRIPTION:A 4-day old-fashioned Agricultural Country Fair held on the fairgrounds of Agricultural Hall in West Tisbury (Martha’s Vineyard Agricultural Society.) Enjoy rides\, games\, shucking contests\, skillet toss\, horse pull\, woodsmen competition\, dog & livestock shows. \nThu-Sat: Open 10 AM – 11 PM | Sun 9:30 AM – 7 PM \nTickets: $15 Adults / $10 Children 5-12\, Senior (62+ y.o.)\, Veterans. Children under 4 are free. Parking $10.
URL:https://portal.mvcommunityservices.org/event/2026-marthas-vineyard-agricultural-fair/
LOCATION:Agricultural Hall\, 35 Panhandle Road\, West Tisbury\, MA\, United States
CATEGORIES:Development,Early Childhood,MV Community
END:VEVENT
BEGIN:VEVENT
DTSTART;TZID=America/New_York:20260819T190000
DTEND;TZID=America/New_York:20260819T220000
DTSTAMP:20260425T115244
CREATED:20251030T155324Z
LAST-MODIFIED:20251113T213422Z
UID:6922-1787166000-1787176800@portal.mvcommunityservices.org
SUMMARY:2026 Grand Illumination Night
DESCRIPTION:The crown jewel of the Campground season is Grand Illumination Night! Thousands of Island residents and visitors enjoy Grand Illumination each summer.The evening starts at 7pm in the Tabernacle\, and seats fill well in advance. The program also includes a prayer\, along with Community Sing and music by the Vineyard Haven Band\, as well as the ceremonial lighting of the first lantern.The event is supported with a free will offering. We are grateful for the generosity of everyone who visits\, participates\, and donates what they can to make this magical evening possible.
URL:https://portal.mvcommunityservices.org/event/grand-illumination-night-at-mvcma/
LOCATION:MA
CATEGORIES:MV Community
END:VEVENT
BEGIN:VEVENT
DTSTART;TZID=America/New_York:20260821T210000
DTEND;TZID=America/New_York:20260821T220000
DTSTAMP:20260425T115244
CREATED:20251030T155907Z
LAST-MODIFIED:20251113T174851Z
UID:6924-1787346000-1787349600@portal.mvcommunityservices.org
SUMMARY:Oak Bluffs Fireworks 2026
DESCRIPTION:What: Annual Oak Bluffs Fireworks \nWho: Sponsored by the Town of Oak Bluffs with help from many generous donations. \nWhen: Friday\, August 21st (rain date\, August 22nd) \nThe show will begin after 9pm\, when it gets dark. \nWhere: Ocean Park\, Oak Bluffs \nNo blankets are allowed to be set up\, unattended\, before 4pm. Tarps are prohibited. \nPlease carry-out all personal items and trash at the end of the evening so we may continue to use the parks for such events. \nParking will be available in Waban Alley Park and Washington Park. Parks will open at 3:30pm \n$20 per car will be collected by the Town of Oak Bluffs to help fund the fireworks and parks department. \nHandicap spaces (placard required) will be available at the Steamship Authority \n*** There will be NO PARKING in Sunset Park *** \nCars may NOT stay in parks overnight\, and will be towed by 8am the following day \nNo parking: \nSeaview Ave starting at 6am and Ocean Ave starting at 12 noon. Cars will be towed at the owner’s expense. \nResidential streets from Dukes County Ave to Seaview Ave or Greenleaf Ave\, 3-11pm. \nOther notes: \nThe Vineyard Transit Authority (VTA) will follow modified routes \nAll Town bathhouses will be open \nTo ensure future Oak Bluffs Fireworks events\, donations are being at Town of Oak Bluffs ~ P.O. Box 1327 ~ Oak Bluffs MA 02557 \nCheck back here for more details as we get closer to the event.
URL:https://portal.mvcommunityservices.org/event/oak-bluffs-fireworks/
LOCATION:MA
CATEGORIES:MV Community
END:VEVENT
BEGIN:VEVENT
DTSTART;TZID=America/New_York:20260904T100000
DTEND;TZID=America/New_York:20260904T230000
DTSTAMP:20260425T115244
CREATED:20260316T180432Z
LAST-MODIFIED:20260414T151135Z
UID:7981-1788516000-1788562800@portal.mvcommunityservices.org
SUMMARY:First Friday Vineyard Haven
DESCRIPTION:First Friday is a free community-inspired all day event spanning the Vineyard Haven Harbor\, an MCC designated Cultural District on Martha’s Vineyard.\n\n\nStarted in 2017 and based on the nation-wide “First Friday” art walks\, we celebrate the local art and culture of our island each first Friday of the month June – October and December. \n\nWhere and When?\n\n\nSept 4 • Oct 2 • Dec 4\n\n\nRunning all throughout our Vineyard Haven Harbor Cultural District.You can walk right off the ferry and into the middle of our harbor town. \n\n\n\n\n\nAll Day – Support local businesses in town (some even run specials on First Fridays!) \n​ \n​10am – 2pm – Daytime Art Market on Beach St. Ext. with local artists and participating galleries. \n​ \n5pm – 11pm – Head towards Owen Park for local food and artist vendors\, with live music on the beach followed by a silent disco.
URL:https://portal.mvcommunityservices.org/event/first-friday-vineyard-haven-7/
LOCATION:Vineyard Haven Harbor Cultural District\, Owen Park Way\, Vineyard Haven\, MA\, 02532\, United States
CATEGORIES:Chicken Alley
END:VEVENT
BEGIN:VEVENT
DTSTART;TZID=America/New_York:20260919T100000
DTEND;TZID=America/New_York:20260919T180000
DTSTAMP:20260425T115244
CREATED:20251030T160409Z
LAST-MODIFIED:20251113T174913Z
UID:6926-1789812000-1789840800@portal.mvcommunityservices.org
SUMMARY:Tivoli Day 2026
DESCRIPTION:Annual End of Summer Celebration Happening on Circuit Ave!\nLIVE MUSIC – LOCAL ARTISTS – CRAFTS – GREAT FOOD – BIG SALES – FAMILY FUN\n \nWave goodbye to summer and join the annual Tivoli Day street fair and block party. Tivoli Day\, an old-fashioned September festival downtown Oak Bluffs has been MV’s tradition for 4 decades. It’s a day to celebrate all the hard work of the summer and to welcome beautiful Island fall. Live entertainment\, street vendors\, bargains\, music & dancing\, arts\, end-of-the-summer sales\, great food and more food. \nSaturday\, September 19th 2026 | 10:00am – 6:00pm\nRAIN DATE: Sunday\, September 2oth 2026
URL:https://portal.mvcommunityservices.org/event/tivoli-day/
LOCATION:MA
CATEGORIES:MV Community
END:VEVENT
BEGIN:VEVENT
DTSTART;TZID=America/New_York:20261002T100000
DTEND;TZID=America/New_York:20261002T230000
DTSTAMP:20260425T115244
CREATED:20260316T180619Z
LAST-MODIFIED:20260316T180619Z
UID:7984-1790935200-1790982000@portal.mvcommunityservices.org
SUMMARY:First Friday Vineyard Haven
DESCRIPTION:First Friday is a free community-inspired all day event spanning the Vineyard Haven Harbor\, an MCC designated Cultural District on Martha’s Vineyard.\n\n\nStarted in 2017 and based on the nation-wide “First Friday” art walks\, we celebrate the local art and culture of our island each first Friday of the month June – October and December. \n\nWhere and When?\n\n\nOct 2 • Dec 4\n\n\nRunning all throughout our Vineyard Haven Harbor Cultural District.You can walk right off the ferry and into the middle of our harbor town. \n\n\n\n\n\nAll Day – Support local businesses in town (some even run specials on First Fridays!) \n​ \n​10am – 2pm – Daytime Art Market on Beach St. Ext. with local artists and participating galleries. \n​ \n5pm – 11pm – Head towards Owen Park for local food and artist vendors\, with live music on the beach followed by a silent disco.
URL:https://portal.mvcommunityservices.org/event/first-friday-vineyard-haven-8/
LOCATION:Vineyard Haven Harbor Cultural District\, Owen Park Way\, Vineyard Haven\, MA\, 02532\, United States
END:VEVENT
BEGIN:VEVENT
DTSTART;VALUE=DATE:20261003
DTEND;VALUE=DATE:20261004
DTSTAMP:20260425T115244
CREATED:20260414T153417Z
LAST-MODIFIED:20260414T153417Z
UID:8157-1790985600-1791071999@portal.mvcommunityservices.org
SUMMARY:Ladyfest 2026
DESCRIPTION:Celebrating female-fueled music on Martha’s Vineyard \n\n\nLADYFEST is an annual music festival in Oak Bluffs\, MA on the island of Martha’s Vineyard. It was co-founded by Rose Guerin and Kelly Feirtag in 2017\, with special assistance by The Ritz Cafe owner\, Larkin Stallings. \nLADYFEST raises awareness and funds for CONNECT TO END VIOLENCE\, a dual domestic violence program and rape crisis center on Martha’s Vineyard. \nThe event features artists from many genres including rock\, soul\, electronic\, and pop.  Artisans and food vendors line the venue selling food\, jewelry\, clothing\, artwork\, and more.
URL:https://portal.mvcommunityservices.org/event/ladyfest-2026/
LOCATION:Waban Alley Park\, Waban Alley Park\, Oak Bluffs\, MA\, 02539\, United States
CATEGORIES:CONNECT,MV Community
ORGANIZER;CN="CONNECT to End Violence":MAILTO:emedeiros@mvcommunityservices,org
END:VEVENT
BEGIN:VEVENT
DTSTART;TZID=America/New_York:20261204T100000
DTEND;TZID=America/New_York:20261204T230000
DTSTAMP:20260425T115244
CREATED:20260316T180830Z
LAST-MODIFIED:20260316T180830Z
UID:7986-1796378400-1796425200@portal.mvcommunityservices.org
SUMMARY:First Friday Vineyard Haven
DESCRIPTION:First Friday is a free community-inspired all day event spanning the Vineyard Haven Harbor\, an MCC designated Cultural District on Martha’s Vineyard.\n\n\nStarted in 2017 and based on the nation-wide “First Friday” art walks\, we celebrate the local art and culture of our island each first Friday of the month June – October and December. \n\nWhere and When?\n\n\nDec 4\n\n\nRunning all throughout our Vineyard Haven Harbor Cultural District.You can walk right off the ferry and into the middle of our harbor town. \n\n\n\n\n\nAll Day – Support local businesses in town (some even run specials on First Fridays!) \n​ \n​10am – 2pm – Daytime Art Market on Beach St. Ext. with local artists and participating galleries. \n​ \n5pm – 11pm – Head towards Owen Park for local food and artist vendors\, with live music on the beach followed by a silent disco.
URL:https://portal.mvcommunityservices.org/event/first-friday-vineyard-haven-9/
LOCATION:Vineyard Haven Harbor Cultural District\, Owen Park Way\, Vineyard Haven\, MA\, 02532\, United States
END:VEVENT
END:VCALENDAR