BEGIN:VCALENDAR
VERSION:2.0
PRODID:-//Employee Portal - ECPv6.15.20//NONSGML v1.0//EN
CALSCALE:GREGORIAN
METHOD:PUBLISH
X-WR-CALNAME:Employee Portal
X-ORIGINAL-URL:https://portal.mvcommunityservices.org
X-WR-CALDESC:Events for Employee Portal
REFRESH-INTERVAL;VALUE=DURATION:PT1H
X-Robots-Tag:noindex
X-PUBLISHED-TTL:PT1H
BEGIN:VTIMEZONE
TZID:America/New_York
BEGIN:DAYLIGHT
TZOFFSETFROM:-0500
TZOFFSETTO:-0400
TZNAME:EDT
DTSTART:20210314T070000
END:DAYLIGHT
BEGIN:STANDARD
TZOFFSETFROM:-0400
TZOFFSETTO:-0500
TZNAME:EST
DTSTART:20211107T060000
END:STANDARD
BEGIN:DAYLIGHT
TZOFFSETFROM:-0500
TZOFFSETTO:-0400
TZNAME:EDT
DTSTART:20220313T070000
END:DAYLIGHT
BEGIN:STANDARD
TZOFFSETFROM:-0400
TZOFFSETTO:-0500
TZNAME:EST
DTSTART:20221106T060000
END:STANDARD
BEGIN:DAYLIGHT
TZOFFSETFROM:-0500
TZOFFSETTO:-0400
TZNAME:EDT
DTSTART:20230312T070000
END:DAYLIGHT
BEGIN:STANDARD
TZOFFSETFROM:-0400
TZOFFSETTO:-0500
TZNAME:EST
DTSTART:20231105T060000
END:STANDARD
BEGIN:DAYLIGHT
TZOFFSETFROM:-0500
TZOFFSETTO:-0400
TZNAME:EDT
DTSTART:20240310T070000
END:DAYLIGHT
BEGIN:STANDARD
TZOFFSETFROM:-0400
TZOFFSETTO:-0500
TZNAME:EST
DTSTART:20241103T060000
END:STANDARD
END:VTIMEZONE
BEGIN:VEVENT
DTSTART;TZID=America/New_York:20231027T090000
DTEND;TZID=America/New_York:20231027T120000
DTSTAMP:20260426T001747
CREATED:20231013T161607Z
LAST-MODIFIED:20231013T161844Z
UID:3628-1698397200-1698408000@portal.mvcommunityservices.org
SUMMARY:Supervisory Communications Skills Training
DESCRIPTION:You must be logged in to view this content.
URL:https://portal.mvcommunityservices.org/event/supervisory-communications-skills-training/
LOCATION:Octagon Room\, 49 Old Courthouse Rd.\, West Tisbury\, MA\, United States
END:VEVENT
BEGIN:VEVENT
DTSTART;TZID=America/New_York:20230927T090000
DTEND;TZID=America/New_York:20230927T120000
DTSTAMP:20260426T001747
CREATED:20230919T235640Z
LAST-MODIFIED:20230925T185000Z
UID:3520-1695805200-1695816000@portal.mvcommunityservices.org
SUMMARY:MVCS Staff Professional Development Series - Having Difficult Conversations
DESCRIPTION:You must be logged in to view this content.
URL:https://portal.mvcommunityservices.org/event/mvcs-staff-professional-development-series-having-difficult-conversations/
LOCATION:Octagon Room\, 49 Old Courthouse Rd.\, West Tisbury\, MA\, United States
ORGANIZER;CN="Jamey Smith":MAILTO:HRsupport@mvcommunityservices.org
END:VEVENT
BEGIN:VEVENT
DTSTART;TZID=America/New_York:20230723T160000
DTEND;TZID=America/New_York:20230723T190000
DTSTAMP:20260426T001747
CREATED:20230620T161802Z
LAST-MODIFIED:20230621T150406Z
UID:2703-1690128000-1690138800@portal.mvcommunityservices.org
SUMMARY:Possible Dreams 2023
DESCRIPTION:You must be logged in to view this content.
URL:https://portal.mvcommunityservices.org/event/possible-dreams-2023/
ATTACH;FMTTYPE=image/png:https://portal.mvcommunityservices.org/wp-content/uploads/2023/06/PD23-Header2.png
END:VEVENT
BEGIN:VEVENT
DTSTART;TZID=America/New_York:20230626T120000
DTEND;TZID=America/New_York:20230626T130000
DTSTAMP:20260426T001747
CREATED:20230622T144930Z
LAST-MODIFIED:20230622T145052Z
UID:2806-1687780800-1687784400@portal.mvcommunityservices.org
SUMMARY:All Staff Meeting
DESCRIPTION:You must be logged in to view this content.
URL:https://portal.mvcommunityservices.org/event/all-staff-meeting/
CATEGORIES:Admin
END:VEVENT
BEGIN:VEVENT
DTSTART;TZID=America/New_York:20230616T143000
DTEND;TZID=America/New_York:20230616T170000
DTSTAMP:20260426T001747
CREATED:20230605T215614Z
LAST-MODIFIED:20230605T215713Z
UID:2663-1686925800-1686934800@portal.mvcommunityservices.org
SUMMARY:MVCS Annual Employee Appreciation Day
DESCRIPTION:You must be logged in to view this content.
URL:https://portal.mvcommunityservices.org/event/mvcs-annual-employee-appreciation-day/
LOCATION:Main Campus
CATEGORIES:Admin
END:VEVENT
BEGIN:VEVENT
DTSTART;TZID=America/New_York:20230607T130000
DTEND;TZID=America/New_York:20230607T140000
DTSTAMP:20260426T001747
CREATED:20230531T230835Z
LAST-MODIFIED:20230602T192319Z
UID:2469-1686142800-1686146400@portal.mvcommunityservices.org
SUMMARY:Open Enrollment Meeting
DESCRIPTION:You must be logged in to view this content.
URL:https://portal.mvcommunityservices.org/event/open-enrollment-meeting-2/
LOCATION:Main Campus
CATEGORIES:Admin
ORGANIZER;CN="Jamey Smith":MAILTO:HRsupport@mvcommunityservices.org
END:VEVENT
BEGIN:VEVENT
DTSTART;TZID=America/New_York:20230607T110000
DTEND;TZID=America/New_York:20230607T120000
DTSTAMP:20260426T001747
CREATED:20230531T230504Z
LAST-MODIFIED:20230531T231047Z
UID:2464-1686135600-1686139200@portal.mvcommunityservices.org
SUMMARY:Open Enrollment Meeting
DESCRIPTION:You must be logged in to view this content.
URL:https://portal.mvcommunityservices.org/event/open-enrollment-meeting/
LOCATION:Main Campus
CATEGORIES:Admin
ORGANIZER;CN="Jamey Smith":MAILTO:HRsupport@mvcommunityservices.org
END:VEVENT
BEGIN:VEVENT
DTSTART;TZID=America/New_York:20230520T090000
DTEND;TZID=America/New_York:20230520T170000
DTSTAMP:20260426T001747
CREATED:20230221T185911Z
LAST-MODIFIED:20230315T214210Z
UID:1238-1684573200-1684602000@portal.mvcommunityservices.org
SUMMARY:Electronic Disposal Day
DESCRIPTION:You must be logged in to view this content.
URL:https://portal.mvcommunityservices.org/event/electronic-disposal-day/
LOCATION:MVRHS
CATEGORIES:Development
ATTACH;FMTTYPE=image/jpeg:https://portal.mvcommunityservices.org/wp-content/uploads/2023/02/EDD-2023-05-20.jpg
END:VEVENT
BEGIN:VEVENT
DTSTART;TZID=America/New_York:20230328T170000
DTEND;TZID=America/New_York:20230328T183000
DTSTAMP:20260426T001747
CREATED:20230314T184239Z
LAST-MODIFIED:20230320T153837Z
UID:1338-1680022800-1680028200@portal.mvcommunityservices.org
SUMMARY:Heathy Families Chefs of MV
DESCRIPTION:You must be logged in to view this content.
URL:https://portal.mvcommunityservices.org/event/heathy-families-chefs-of-mv/
LOCATION:Main Campus
CATEGORIES:IWYC
ATTACH;FMTTYPE=image/png:https://portal.mvcommunityservices.org/wp-content/uploads/2023/03/IWYC-Event-HealthyFamilies-ChefsOfMV-Bilingual.png
END:VEVENT
BEGIN:VEVENT
DTSTART;TZID=America/New_York:20230216T120000
DTEND;TZID=America/New_York:20230218T170000
DTSTAMP:20260426T001747
CREATED:20230130T175053Z
LAST-MODIFIED:20230130T175053Z
UID:880-1676548800-1676739600@portal.mvcommunityservices.org
SUMMARY:Coffee with Pastors - Outreach to Brazilian Ecclesiastical Authorities
DESCRIPTION:You must be logged in to view this content.
URL:https://portal.mvcommunityservices.org/event/coffee-with-pastors-outreach-to-brazilian-ecclesiastical-authorities/
LOCATION:Main Campus
CATEGORIES:CONNECT
END:VEVENT
BEGIN:VEVENT
DTSTART;TZID=America/New_York:20230214T080000
DTEND;TZID=America/New_York:20230214T170000
DTSTAMP:20260426T001747
CREATED:20230214T163224Z
LAST-MODIFIED:20230214T164443Z
UID:1075-1676361600-1676394000@portal.mvcommunityservices.org
SUMMARY:Children's Dental Clinic
DESCRIPTION:You must be logged in to view this content.
URL:https://portal.mvcommunityservices.org/event/childrens-dental-clinic/
ATTACH;FMTTYPE=image/jpeg:https://portal.mvcommunityservices.org/wp-content/uploads/2023/01/Polished-Dental-Full.jpg
END:VEVENT
BEGIN:VEVENT
DTSTART;TZID=America/New_York:20230204T090000
DTEND;TZID=America/New_York:20230204T160000
DTSTAMP:20260426T001747
CREATED:20230131T181611Z
LAST-MODIFIED:20230131T181653Z
UID:891-1675501200-1675526400@portal.mvcommunityservices.org
SUMMARY:Polished Dental at IWYC
DESCRIPTION:You must be logged in to view this content.
URL:https://portal.mvcommunityservices.org/event/polished-dental-at-iwyc/
LOCATION:Main Campus
CATEGORIES:IWYC
ATTACH;FMTTYPE=image/jpeg:https://portal.mvcommunityservices.org/wp-content/uploads/2023/01/Polished-Dental-Full.jpg
END:VEVENT
BEGIN:VEVENT
DTSTART;TZID=America/New_York:20230125T090000
DTEND;TZID=America/New_York:20230125T090000
DTSTAMP:20260426T001747
CREATED:20230124T213238Z
LAST-MODIFIED:20230124T213503Z
UID:806-1674637200-1674637200@portal.mvcommunityservices.org
SUMMARY:CCAT Check-in
DESCRIPTION:You must be logged in to view this content.
URL:https://portal.mvcommunityservices.org/event/ccat-check-in/
LOCATION:Main Campus
CATEGORIES:Admin
END:VEVENT
BEGIN:VEVENT
DTSTART;TZID=America/New_York:20230117T110000
DTEND;TZID=America/New_York:20230117T120000
DTSTAMP:20260426T001747
CREATED:20230117T164308Z
LAST-MODIFIED:20230117T164332Z
UID:754-1673953200-1673956800@portal.mvcommunityservices.org
SUMMARY:Employee Portal PIT
DESCRIPTION:You must be logged in to view this content.
URL:https://portal.mvcommunityservices.org/event/employee-portal-pit/
LOCATION:Main Campus
CATEGORIES:Admin
END:VEVENT
BEGIN:VEVENT
DTSTART;TZID=America/New_York:20221208T093000
DTEND;TZID=America/New_York:20221208T150000
DTSTAMP:20260426T001747
CREATED:20221201T202207Z
LAST-MODIFIED:20221201T202207Z
UID:739-1670491800-1670511600@portal.mvcommunityservices.org
SUMMARY:Immigration Legal Clinic
DESCRIPTION:You must be logged in to view this content.
URL:https://portal.mvcommunityservices.org/event/immigration-legal-clinic/
CATEGORIES:IWYC
END:VEVENT
BEGIN:VEVENT
DTSTART;TZID=America/New_York:20221207T173000
DTEND;TZID=America/New_York:20221207T193000
DTSTAMP:20260426T001747
CREATED:20221201T164726Z
LAST-MODIFIED:20221201T164726Z
UID:728-1670434200-1670441400@portal.mvcommunityservices.org
SUMMARY:Your Power as a Difference Maker
DESCRIPTION:You must be logged in to view this content.
URL:https://portal.mvcommunityservices.org/event/your-power-as-a-difference-maker/
LOCATION:MVRHS PAC
CATEGORIES:CONNECT
END:VEVENT
BEGIN:VEVENT
DTSTART;TZID=America/New_York:20221203T090000
DTEND;TZID=America/New_York:20221203T160000
DTSTAMP:20260426T001747
CREATED:20221201T195605Z
LAST-MODIFIED:20221201T195605Z
UID:735-1670058000-1670083200@portal.mvcommunityservices.org
SUMMARY:Polished Dental Clinic
DESCRIPTION:You must be logged in to view this content.
URL:https://portal.mvcommunityservices.org/event/polished-dental-clinic/
LOCATION:Main Campus
CATEGORIES:IWYC
END:VEVENT
BEGIN:VEVENT
DTSTART;TZID=America/New_York:20221121T080000
DTEND;TZID=America/New_York:20221121T170000
DTSTAMP:20260426T001747
CREATED:20221118T145649Z
LAST-MODIFIED:20221118T145649Z
UID:709-1669017600-1669050000@portal.mvcommunityservices.org
SUMMARY:Thankful Tree
DESCRIPTION:You must be logged in to view this content.
URL:https://portal.mvcommunityservices.org/event/thankful-tree/
CATEGORIES:Admin
END:VEVENT
BEGIN:VEVENT
DTSTART;TZID=America/New_York:20221115T080000
DTEND;TZID=America/New_York:20221115T170000
DTSTAMP:20260426T001747
CREATED:20220912T144935Z
LAST-MODIFIED:20221031T132355Z
UID:522-1668499200-1668531600@portal.mvcommunityservices.org
SUMMARY:MVCS Professional Development Day
DESCRIPTION:You must be logged in to view this content.
URL:https://portal.mvcommunityservices.org/event/mvcs-professional-development-day/
LOCATION:Main Campus
CATEGORIES:Admin
END:VEVENT
BEGIN:VEVENT
DTSTART;TZID=America/New_York:20221031T113000
DTEND;TZID=America/New_York:20221031T143000
DTSTAMP:20260426T001747
CREATED:20221031T135215Z
LAST-MODIFIED:20221031T135725Z
UID:608-1667215800-1667226600@portal.mvcommunityservices.org
SUMMARY:Daybreak Open House
DESCRIPTION:You must be logged in to view this content.
URL:https://portal.mvcommunityservices.org/event/daybreak-open-house/
CATEGORIES:Disability Services
END:VEVENT
BEGIN:VEVENT
DTSTART;TZID=America/New_York:20221015T090000
DTEND;TZID=America/New_York:20221015T140000
DTSTAMP:20260426T001747
CREATED:20220913T161748Z
LAST-MODIFIED:20220913T162412Z
UID:548-1665824400-1665842400@portal.mvcommunityservices.org
SUMMARY:Electronics Disposal Day
DESCRIPTION:You must be logged in to view this content.
URL:https://portal.mvcommunityservices.org/event/electronics-disposal-day/
ATTACH;FMTTYPE=image/png:https://portal.mvcommunityservices.org/wp-content/uploads/2022/09/EDD1015-Header.png
END:VEVENT
BEGIN:VEVENT
DTSTART;TZID=America/New_York:20221012T140000
DTEND;TZID=America/New_York:20221012T160000
DTSTAMP:20260426T001747
CREATED:20220912T145411Z
LAST-MODIFIED:20220913T121910Z
UID:526-1665583200-1665590400@portal.mvcommunityservices.org
SUMMARY:MVCS Staff and Board Dog Show
DESCRIPTION:You must be logged in to view this content.
URL:https://portal.mvcommunityservices.org/event/mvcs-staff-and-board-dog-show/
LOCATION:Main Campus
ATTACH;FMTTYPE=image/jpeg:https://portal.mvcommunityservices.org/wp-content/uploads/2022/09/DogShowImage.jpg
END:VEVENT
BEGIN:VEVENT
DTSTART;TZID=America/New_York:20221007T080000
DTEND;TZID=America/New_York:20221007T090000
DTSTAMP:20260426T001747
CREATED:20220920T160223Z
LAST-MODIFIED:20220920T185332Z
UID:590-1665129600-1665133200@portal.mvcommunityservices.org
SUMMARY:IWYC Open House
DESCRIPTION:You must be logged in to view this content.
URL:https://portal.mvcommunityservices.org/event/test-event/
LOCATION:Main Campus
CATEGORIES:IWYC
END:VEVENT
BEGIN:VEVENT
DTSTART;TZID=America/New_York:20221006T080000
DTEND;TZID=America/New_York:20221006T170000
DTSTAMP:20260426T001747
CREATED:20220912T144536Z
LAST-MODIFIED:20221110T205051Z
UID:517-1665043200-1665075600@portal.mvcommunityservices.org
SUMMARY:Active Threat Planning and Drill
DESCRIPTION:You must be logged in to view this content.
URL:https://portal.mvcommunityservices.org/event/active-threat-planning-and-drill/
END:VEVENT
BEGIN:VEVENT
DTSTART;TZID=America/New_York:20220928T090000
DTEND;TZID=America/New_York:20220928T140000
DTSTAMP:20260426T001747
CREATED:20220913T161015Z
LAST-MODIFIED:20220913T161508Z
UID:545-1664355600-1664373600@portal.mvcommunityservices.org
SUMMARY:Vineyard Charity Golf Classic
DESCRIPTION:You must be logged in to view this content.
URL:https://portal.mvcommunityservices.org/event/vineyard-charity-golf-classic/
ATTACH;FMTTYPE=image/png:https://portal.mvcommunityservices.org/wp-content/uploads/2022/09/VCGC22-FB-Header-1024x577-1.png
END:VEVENT
BEGIN:VEVENT
DTSTART;TZID=America/New_York:20220908T083000
DTEND;TZID=America/New_York:20220908T100000
DTSTAMP:20260426T001747
CREATED:20220909T122845Z
LAST-MODIFIED:20220909T122845Z
UID:503-1662625800-1662631200@portal.mvcommunityservices.org
SUMMARY:QMT Meeting
DESCRIPTION:You must be logged in to view this content.
URL:https://portal.mvcommunityservices.org/event/qmt-meeting/
END:VEVENT
END:VCALENDAR