BEGIN:VCALENDAR
VERSION:2.0
PRODID:-//Employee Portal - ECPv6.15.20//NONSGML v1.0//EN
CALSCALE:GREGORIAN
METHOD:PUBLISH
X-WR-CALNAME:Employee Portal
X-ORIGINAL-URL:https://portal.mvcommunityservices.org
X-WR-CALDESC:Events for Employee Portal
REFRESH-INTERVAL;VALUE=DURATION:PT1H
X-Robots-Tag:noindex
X-PUBLISHED-TTL:PT1H
BEGIN:VTIMEZONE
TZID:America/New_York
BEGIN:DAYLIGHT
TZOFFSETFROM:-0500
TZOFFSETTO:-0400
TZNAME:EDT
DTSTART:20220313T070000
END:DAYLIGHT
BEGIN:STANDARD
TZOFFSETFROM:-0400
TZOFFSETTO:-0500
TZNAME:EST
DTSTART:20221106T060000
END:STANDARD
BEGIN:DAYLIGHT
TZOFFSETFROM:-0500
TZOFFSETTO:-0400
TZNAME:EDT
DTSTART:20230312T070000
END:DAYLIGHT
BEGIN:STANDARD
TZOFFSETFROM:-0400
TZOFFSETTO:-0500
TZNAME:EST
DTSTART:20231105T060000
END:STANDARD
BEGIN:DAYLIGHT
TZOFFSETFROM:-0500
TZOFFSETTO:-0400
TZNAME:EDT
DTSTART:20240310T070000
END:DAYLIGHT
BEGIN:STANDARD
TZOFFSETFROM:-0400
TZOFFSETTO:-0500
TZNAME:EST
DTSTART:20241103T060000
END:STANDARD
BEGIN:DAYLIGHT
TZOFFSETFROM:-0500
TZOFFSETTO:-0400
TZNAME:EDT
DTSTART:20250309T070000
END:DAYLIGHT
BEGIN:STANDARD
TZOFFSETFROM:-0400
TZOFFSETTO:-0500
TZNAME:EST
DTSTART:20251102T060000
END:STANDARD
END:VTIMEZONE
BEGIN:VEVENT
DTSTART;TZID=America/New_York:20240523T090000
DTEND;TZID=America/New_York:20240523T120000
DTSTAMP:20260425T122959
CREATED:20240509T100805Z
LAST-MODIFIED:20240509T100805Z
UID:4445-1716454800-1716465600@portal.mvcommunityservices.org
SUMMARY:Time Management in Human Services
DESCRIPTION:You must be logged in to view this content.
URL:https://portal.mvcommunityservices.org/event/time-management-in-human-services/
END:VEVENT
BEGIN:VEVENT
DTSTART;TZID=America/New_York:20240522T150000
DTEND;TZID=America/New_York:20240522T163000
DTSTAMP:20260425T122959
CREATED:20240424T190652Z
LAST-MODIFIED:20240424T190652Z
UID:4391-1716390000-1716395400@portal.mvcommunityservices.org
SUMMARY:MVCS Employee Appreciation Awards
DESCRIPTION:You must be logged in to view this content.
URL:https://portal.mvcommunityservices.org/event/mvcs-employee-appreciation-awards/
LOCATION:Main Campus
END:VEVENT
BEGIN:VEVENT
DTSTART;TZID=America/New_York:20240518T090000
DTEND;TZID=America/New_York:20240518T140000
DTSTAMP:20260425T122959
CREATED:20240327T140501Z
LAST-MODIFIED:20240327T140501Z
UID:4281-1716022800-1716040800@portal.mvcommunityservices.org
SUMMARY:Electronics Disposal Day
DESCRIPTION:You must be logged in to view this content.
URL:https://portal.mvcommunityservices.org/event/electronics-disposal-day-2/
LOCATION:MVRHS
END:VEVENT
BEGIN:VEVENT
DTSTART;TZID=America/New_York:20240510T090000
DTEND;TZID=America/New_York:20240510T120000
DTSTAMP:20260425T122959
CREATED:20240509T095837Z
LAST-MODIFIED:20240509T103254Z
UID:4440-1715331600-1715342400@portal.mvcommunityservices.org
SUMMARY:Ethical Decision Making
DESCRIPTION:You must be logged in to view this content.
URL:https://portal.mvcommunityservices.org/event/ethical-decision-making/
LOCATION:IWYC Conference Room
END:VEVENT
BEGIN:VEVENT
DTSTART;TZID=America/New_York:20240509T150000
DTEND;TZID=America/New_York:20241231T150000
DTSTAMP:20260425T122959
CREATED:20240404T154647Z
LAST-MODIFIED:20250815T145910Z
UID:4324-1715266800-1735657200@portal.mvcommunityservices.org
SUMMARY:This is a non-interactive self-study course - Diversity & Cultural Competence for Mental Health Professionals
DESCRIPTION:You must be logged in to view this content.
URL:https://portal.mvcommunityservices.org/event/diversity-cultural-competence-for-mental-health-professionals-3/
END:VEVENT
BEGIN:VEVENT
DTSTART;TZID=America/New_York:20240509T150000
DTEND;TZID=America/New_York:20241231T150000
DTSTAMP:20260425T122959
CREATED:20240404T153520Z
LAST-MODIFIED:20250815T145940Z
UID:4321-1715266800-1735657200@portal.mvcommunityservices.org
SUMMARY:This is a non-interactive self-study course - Identifying and Alleviating Secondary Trauma Stress\, Compassion Fatigue & Burnout
DESCRIPTION:You must be logged in to view this content.
URL:https://portal.mvcommunityservices.org/event/identifying-and-alleviating-secondary-trauma-stress-compassion-fatigue-burnout-2/
END:VEVENT
BEGIN:VEVENT
DTSTART;TZID=America/New_York:20240509T120000
DTEND;TZID=America/New_York:20240509T130000
DTSTAMP:20260425T122959
CREATED:20240412T145356Z
LAST-MODIFIED:20240412T151428Z
UID:4355-1715256000-1715259600@portal.mvcommunityservices.org
SUMMARY:Lunch and Learn-Supervised Visitation Center
DESCRIPTION:You must be logged in to view this content.
URL:https://portal.mvcommunityservices.org/event/lunch-and-learn-supervised-visitation-center/
LOCATION:IWYC Conference Room
ORGANIZER;CN="Quality Management Team":MAILTO:cflanders@mvcommunityservices.org
END:VEVENT
BEGIN:VEVENT
DTSTART;TZID=America/New_York:20240429T120000
DTEND;TZID=America/New_York:20240429T130000
DTSTAMP:20260425T122959
CREATED:20240419T175104Z
LAST-MODIFIED:20240419T175104Z
UID:4382-1714392000-1714395600@portal.mvcommunityservices.org
SUMMARY:All Staff Meeting
DESCRIPTION:You must be logged in to view this content.
URL:https://portal.mvcommunityservices.org/event/all-staff-meeting-2/
END:VEVENT
BEGIN:VEVENT
DTSTART;TZID=America/New_York:20240427T130000
DTEND;TZID=America/New_York:20240427T150000
DTSTAMP:20260425T122959
CREATED:20240420T174049Z
LAST-MODIFIED:20240420T174103Z
UID:4384-1714222800-1714230000@portal.mvcommunityservices.org
SUMMARY:MVCS May Day Blossoms Family Festival
DESCRIPTION:You must be logged in to view this content.
URL:https://portal.mvcommunityservices.org/event/mvcs-may-day-blossoms-family-festival/
LOCATION:Main Campus
END:VEVENT
BEGIN:VEVENT
DTSTART;TZID=America/New_York:20240427T094500
DTEND;TZID=America/New_York:20240427T110000
DTSTAMP:20260425T122959
CREATED:20240408T174257Z
LAST-MODIFIED:20240408T174257Z
UID:4328-1714211100-1714215600@portal.mvcommunityservices.org
SUMMARY:Sexual Assault Awareness Walk
DESCRIPTION:You must be logged in to view this content.
URL:https://portal.mvcommunityservices.org/event/sexual-assault-awareness-walk/
LOCATION:Ocean Park Gazebo\, Oak Bluffs
ORGANIZER;CN="Jennifer Neary":MAILTO:jsmith@mvcommunityservices.org
END:VEVENT
BEGIN:VEVENT
DTSTART;TZID=America/New_York:20240418T120000
DTEND;TZID=America/New_York:20240418T130000
DTSTAMP:20260425T122959
CREATED:20240401T210631Z
LAST-MODIFIED:20240401T210631Z
UID:4310-1713441600-1713445200@portal.mvcommunityservices.org
SUMMARY:Lunch and Learn:  How Do You De-Stress
DESCRIPTION:You must be logged in to view this content.
URL:https://portal.mvcommunityservices.org/event/lunch-and-learn-how-do-you-de-stress/
LOCATION:IWYC Conference Room
END:VEVENT
BEGIN:VEVENT
DTSTART;TZID=America/New_York:20240414T110000
DTEND;TZID=America/New_York:20240414T150000
DTSTAMP:20260425T122959
CREATED:20240320T140645Z
LAST-MODIFIED:20240320T140645Z
UID:4263-1713092400-1713106800@portal.mvcommunityservices.org
SUMMARY:Make Pet Beds Great Again!
DESCRIPTION:You must be logged in to view this content.
URL:https://portal.mvcommunityservices.org/event/make-pet-beds-great-again/
LOCATION:Main Campus
ORGANIZER;CN="Courtney Atkins":MAILTO:catkins@mvcommunityservices.org
END:VEVENT
BEGIN:VEVENT
DTSTART;TZID=America/New_York:20240328T090000
DTEND;TZID=America/New_York:20240328T120000
DTSTAMP:20260425T122959
CREATED:20240306T173303Z
LAST-MODIFIED:20240306T173303Z
UID:4205-1711616400-1711627200@portal.mvcommunityservices.org
SUMMARY:CONFIDENTIALITY AND PRIVACY
DESCRIPTION:You must be logged in to view this content.
URL:https://portal.mvcommunityservices.org/event/confidentiality-and-privacy-3/
LOCATION:IWYC Conference Room
END:VEVENT
BEGIN:VEVENT
DTSTART;TZID=America/New_York:20240327T080000
DTEND;TZID=America/New_York:20240327T170000
DTSTAMP:20260425T122959
CREATED:20240307T150705Z
LAST-MODIFIED:20240314T154150Z
UID:4215-1711526400-1711558800@portal.mvcommunityservices.org
SUMMARY:Diversity & Cultural Competence for Mental Health Professionals - This is a non-interactive self-study course- YOU WILL WILL HAVE ONE WEEK TO COMPLETE THE COURSE
DESCRIPTION:You must be logged in to view this content.
URL:https://portal.mvcommunityservices.org/event/diversity-cultural-competence-for-mental-health-professionals-2/
END:VEVENT
BEGIN:VEVENT
DTSTART;TZID=America/New_York:20240325T120000
DTEND;TZID=America/New_York:20240325T130000
DTSTAMP:20260425T122959
CREATED:20240323T012904Z
LAST-MODIFIED:20240323T012904Z
UID:4278-1711368000-1711371600@portal.mvcommunityservices.org
SUMMARY:All Staff Meeting March 25th at noon
DESCRIPTION:You must be logged in to view this content.
URL:https://portal.mvcommunityservices.org/event/all-staff-meeting-march-25th-at-noon/
CATEGORIES:Admin
END:VEVENT
BEGIN:VEVENT
DTSTART;TZID=America/New_York:20240320T080000
DTEND;TZID=America/New_York:20240320T170000
DTSTAMP:20260425T122959
CREATED:20240306T174759Z
LAST-MODIFIED:20240314T154229Z
UID:4209-1710921600-1710954000@portal.mvcommunityservices.org
SUMMARY:IDENTIFYING AND ALLEVIATING SECONDARY TRAUMA STRESS\, COMPASSION FATIGUE & BURNOUT - This is a non-interactive self-study course. YOU WILL HAVE ONE WEEK TO COMPLETE THE COURSE
DESCRIPTION:You must be logged in to view this content.
URL:https://portal.mvcommunityservices.org/event/identifying-and-alleviating-secondary-trauma-stress-compassion-fatigue-burnout/
END:VEVENT
BEGIN:VEVENT
DTSTART;TZID=America/New_York:20240306T120000
DTEND;TZID=America/New_York:20240306T130000
DTSTAMP:20260425T122959
CREATED:20240215T134301Z
LAST-MODIFIED:20240215T134301Z
UID:4113-1709726400-1709730000@portal.mvcommunityservices.org
SUMMARY:March Lunch and Learn
DESCRIPTION:You must be logged in to view this content.
URL:https://portal.mvcommunityservices.org/event/march-lunch-and-learn/
LOCATION:IWYC Conference Room
END:VEVENT
BEGIN:VEVENT
DTSTART;TZID=America/New_York:20240327T080000
DTEND;TZID=America/New_York:20240327T080000
DTSTAMP:20260425T122959
CREATED:20240306T174058Z
LAST-MODIFIED:20240306T174159Z
UID:4207-1711526400-1711526400@portal.mvcommunityservices.org
SUMMARY:DIVERSITY & CULTURAL COMPETENCE FOR MENTAL HEALTH PROFESSIONALS
DESCRIPTION:You must be logged in to view this content.
URL:https://portal.mvcommunityservices.org/event/diversity-cultural-competence-for-mental-health-professionals/
END:VEVENT
BEGIN:VEVENT
DTSTART;TZID=America/New_York:20240229T090000
DTEND;TZID=America/New_York:20240229T120000
DTSTAMP:20260425T122959
CREATED:20240119T114606Z
LAST-MODIFIED:20240221T160600Z
UID:4029-1709197200-1709208000@portal.mvcommunityservices.org
SUMMARY:Confidentiality and Privacy
DESCRIPTION:You must be logged in to view this content.
URL:https://portal.mvcommunityservices.org/event/confidentiality-and-privacy-2/
LOCATION:IWYC Conference Room
END:VEVENT
BEGIN:VEVENT
DTSTART;TZID=America/New_York:20240215T120000
DTEND;TZID=America/New_York:20240215T130000
DTSTAMP:20260425T122959
CREATED:20240130T213853Z
LAST-MODIFIED:20240130T213853Z
UID:4057-1707998400-1708002000@portal.mvcommunityservices.org
SUMMARY:February Lunch and Learn:  Technology Open House
DESCRIPTION:You must be logged in to view this content.
URL:https://portal.mvcommunityservices.org/event/february-lunch-and-learn-technology-open-house/
LOCATION:IWYC Conference Room
END:VEVENT
BEGIN:VEVENT
DTSTART;TZID=America/New_York:20240213T090000
DTEND;TZID=America/New_York:20240213T120000
DTSTAMP:20260425T122959
CREATED:20240129T200157Z
LAST-MODIFIED:20240129T200157Z
UID:4039-1707814800-1707825600@portal.mvcommunityservices.org
SUMMARY:Trauma Informed Care Training for MVCS Clinicians
DESCRIPTION:You must be logged in to view this content.
URL:https://portal.mvcommunityservices.org/event/trauma-informed-care-training-for-mvcs-clinicians/
END:VEVENT
BEGIN:VEVENT
DTSTART;TZID=America/New_York:20240118T120000
DTEND;TZID=America/New_York:20240118T130000
DTSTAMP:20260425T122959
CREATED:20240112T185130Z
LAST-MODIFIED:20240112T185130Z
UID:4016-1705579200-1705582800@portal.mvcommunityservices.org
SUMMARY:Client Empowerment and Autonomy Lunch & Learn
DESCRIPTION:You must be logged in to view this content.
URL:https://portal.mvcommunityservices.org/event/client-empowerment-and-autonomy-lunch-learn/
LOCATION:IWYC Conference Room
END:VEVENT
BEGIN:VEVENT
DTSTART;TZID=America/New_York:20240117T090000
DTEND;TZID=America/New_York:20240117T120000
DTSTAMP:20260425T122959
CREATED:20240104T141509Z
LAST-MODIFIED:20240106T125645Z
UID:3974-1705482000-1705492800@portal.mvcommunityservices.org
SUMMARY:Trauma Informed Care Training
DESCRIPTION:You must be logged in to view this content.
URL:https://portal.mvcommunityservices.org/event/trauma-informed-care-training/
LOCATION:IWYC Conference Room
END:VEVENT
BEGIN:VEVENT
DTSTART;TZID=America/New_York:20231219T130000
DTEND;TZID=America/New_York:20231219T160000
DTSTAMP:20260425T122959
CREATED:20231121T111520Z
LAST-MODIFIED:20231215T171050Z
UID:3756-1702990800-1703001600@portal.mvcommunityservices.org
SUMMARY:Collaborative Documentation in Behavioral Health
DESCRIPTION:You must be logged in to view this content.
URL:https://portal.mvcommunityservices.org/event/collaborative-documentation-in-behavioral-health-2/
LOCATION:IWYC Conference Room
END:VEVENT
BEGIN:VEVENT
DTSTART;TZID=America/New_York:20231206T120000
DTEND;TZID=America/New_York:20231206T150000
DTSTAMP:20260425T122959
CREATED:20231026T125701Z
LAST-MODIFIED:20231121T110501Z
UID:3658-1701864000-1701874800@portal.mvcommunityservices.org
SUMMARY:Legal Considerations for Supervision Training
DESCRIPTION:You must be logged in to view this content.
URL:https://portal.mvcommunityservices.org/event/legal-considerations-for-supervision/
LOCATION:Octagon Room\, 49 Old Courthouse Rd.\, West Tisbury\, MA\, United States
END:VEVENT
BEGIN:VEVENT
DTSTART;TZID=America/New_York:20231129T000000
DTEND;TZID=America/New_York:20231129T000000
DTSTAMP:20260425T122959
CREATED:20231026T125537Z
LAST-MODIFIED:20231121T111218Z
UID:3656-1701216000-1701216000@portal.mvcommunityservices.org
SUMMARY:Confidentiality and Privacy Training
DESCRIPTION:You must be logged in to view this content.
URL:https://portal.mvcommunityservices.org/event/confidentiality-and-privacy/
END:VEVENT
BEGIN:VEVENT
DTSTART;VALUE=DATE:20231115
DTEND;VALUE=DATE:20231116
DTSTAMP:20260425T122959
CREATED:20231026T125309Z
LAST-MODIFIED:20231026T125309Z
UID:3654-1700006400-1700092799@portal.mvcommunityservices.org
SUMMARY:Professional Development Day
DESCRIPTION:You must be logged in to view this content.
URL:https://portal.mvcommunityservices.org/event/professional-development-day/
LOCATION:Main Campus – EEC
END:VEVENT
BEGIN:VEVENT
DTSTART;TZID=America/New_York:20231107T130000
DTEND;TZID=America/New_York:20231107T160000
DTSTAMP:20260425T122959
CREATED:20231026T125203Z
LAST-MODIFIED:20231030T220622Z
UID:3652-1699362000-1699372800@portal.mvcommunityservices.org
SUMMARY:Collaborative Documentation in Behavioral Health Training
DESCRIPTION:You must be logged in to view this content.
URL:https://portal.mvcommunityservices.org/event/collaborative-documentation-in-behavioral-health/
LOCATION:Octagon Room\, 49 Old Courthouse Rd.\, West Tisbury\, MA\, United States
END:VEVENT
BEGIN:VEVENT
DTSTART;TZID=America/New_York:20231027T090000
DTEND;TZID=America/New_York:20231027T120000
DTSTAMP:20260425T122959
CREATED:20231013T161607Z
LAST-MODIFIED:20231013T161844Z
UID:3628-1698397200-1698408000@portal.mvcommunityservices.org
SUMMARY:Supervisory Communications Skills Training
DESCRIPTION:You must be logged in to view this content.
URL:https://portal.mvcommunityservices.org/event/supervisory-communications-skills-training/
LOCATION:Octagon Room\, 49 Old Courthouse Rd.\, West Tisbury\, MA\, United States
END:VEVENT
BEGIN:VEVENT
DTSTART;TZID=America/New_York:20230927T090000
DTEND;TZID=America/New_York:20230927T120000
DTSTAMP:20260425T122959
CREATED:20230919T235640Z
LAST-MODIFIED:20230925T185000Z
UID:3520-1695805200-1695816000@portal.mvcommunityservices.org
SUMMARY:MVCS Staff Professional Development Series - Having Difficult Conversations
DESCRIPTION:You must be logged in to view this content.
URL:https://portal.mvcommunityservices.org/event/mvcs-staff-professional-development-series-having-difficult-conversations/
LOCATION:Octagon Room\, 49 Old Courthouse Rd.\, West Tisbury\, MA\, United States
ORGANIZER;CN="Jamey Smith":MAILTO:HRsupport@mvcommunityservices.org
END:VEVENT
END:VCALENDAR