BEGIN:VCALENDAR
VERSION:2.0
PRODID:-//Employee Portal - ECPv6.15.20//NONSGML v1.0//EN
CALSCALE:GREGORIAN
METHOD:PUBLISH
X-WR-CALNAME:Employee Portal
X-ORIGINAL-URL:https://portal.mvcommunityservices.org
X-WR-CALDESC:Events for Employee Portal
REFRESH-INTERVAL;VALUE=DURATION:PT1H
X-Robots-Tag:noindex
X-PUBLISHED-TTL:PT1H
BEGIN:VTIMEZONE
TZID:America/New_York
BEGIN:DAYLIGHT
TZOFFSETFROM:-0500
TZOFFSETTO:-0400
TZNAME:EDT
DTSTART:20230312T070000
END:DAYLIGHT
BEGIN:STANDARD
TZOFFSETFROM:-0400
TZOFFSETTO:-0500
TZNAME:EST
DTSTART:20231105T060000
END:STANDARD
BEGIN:DAYLIGHT
TZOFFSETFROM:-0500
TZOFFSETTO:-0400
TZNAME:EDT
DTSTART:20240310T070000
END:DAYLIGHT
BEGIN:STANDARD
TZOFFSETFROM:-0400
TZOFFSETTO:-0500
TZNAME:EST
DTSTART:20241103T060000
END:STANDARD
BEGIN:DAYLIGHT
TZOFFSETFROM:-0500
TZOFFSETTO:-0400
TZNAME:EDT
DTSTART:20250309T070000
END:DAYLIGHT
BEGIN:STANDARD
TZOFFSETFROM:-0400
TZOFFSETTO:-0500
TZNAME:EST
DTSTART:20251102T060000
END:STANDARD
END:VTIMEZONE
BEGIN:VEVENT
DTSTART;TZID=America/New_York:20240509T150000
DTEND;TZID=America/New_York:20241231T150000
DTSTAMP:20260426T001119
CREATED:20240404T153520Z
LAST-MODIFIED:20250815T145940Z
UID:4321-1715266800-1735657200@portal.mvcommunityservices.org
SUMMARY:This is a non-interactive self-study course - Identifying and Alleviating Secondary Trauma Stress\, Compassion Fatigue & Burnout
DESCRIPTION:A 3-Credit CE Course for Clinicians \nThis is a non-interactive self-study course. Teaching methods for this course includes recorded lectures\, videos\, a post-test\, and a course evaluation \nSecondary traumatic stress (STS) and compassion fatigue (CF) are commonly assessed in the field of emergency and mental health as well\nas in the study of best practices for clinicians and front-line worker in the field of trauma. \nThe unimaginable state of global crisis has placed these constructs under the spotlight as first\nresponders\, front-line medical personnel\, and mental health professionals work with traumatized\npatients and clients while experiencing their own level of physical\, emotional\, and psychological\nstressors. \nAs levels of empathy and compassion grow in the hearts of front-line workers caring for\nthose in distress\, so does the cost; leading to a state of physical\, emotional and psychological\nexhaustion . \nLearning Objectives: \n\nList symptoms and identify the differences and similarities of secondary traumatic stress STS\,\ncompassion fatigue CF\, burnout BO\, and vicarious trauma VT.\nRecognize personal and professional vulnerabilities to secondary traumatic stress and compassion fatigue.\nDevelop interventions useful via Telemental health in working with those who are experiencing STS\, CF\, and BO\n\nSign up here with your name and email address
URL:https://portal.mvcommunityservices.org/event/identifying-and-alleviating-secondary-trauma-stress-compassion-fatigue-burnout-2/
LOCATION:MA
END:VEVENT
BEGIN:VEVENT
DTSTART;TZID=America/New_York:20240509T150000
DTEND;TZID=America/New_York:20241231T150000
DTSTAMP:20260426T001119
CREATED:20240404T154647Z
LAST-MODIFIED:20250815T145910Z
UID:4324-1715266800-1735657200@portal.mvcommunityservices.org
SUMMARY:This is a non-interactive self-study course - Diversity & Cultural Competence for Mental Health Professionals
DESCRIPTION:A 4-CREDIT CE COURSE FOR CLINICIANS \nThis is a non-interactive self-study course. The course is comprised of two sections with all content presented in both audio and text \nversion. \nSection 1 describes a framework for multicultural competency along with a review of findings of\nsocial worker perspectives on how they developed their own competence\, a process equally applicable\nto all mental health professionals. \nSection 2 provides information on challenges faced by certain sub-populations including African\nAmerican women\, persons with disabilities\, and LBGQTI+ persons\, all populations mental health\nprofessionals frequently interact with. Specific guidance for how to conceptualize and interact\ntherapeutically with such persons is provided by experts in their respective fields. \nLearning Objectives: \n1.  Identify the components of the integrative model of multicultural responsiveness Explain how the\nstrengths and vulnerabilities of the African American female client can guide assessment and\ntreatment\n2. Analyze the unique issues involved in treating clients with disabilities (e.g.\, assessing for\ndiscrimination and abuse\, helping with empowerment\, and avoiding common diagnostic errors)\n3. Discuss the unmet mental health and addiction needs of members of the LGBTIQ+ communities\, the\nbarriers of access to treatment\, specific interventions\,\nand future directions in research \nSign up with your name and email
URL:https://portal.mvcommunityservices.org/event/diversity-cultural-competence-for-mental-health-professionals-3/
LOCATION:MA
END:VEVENT
BEGIN:VEVENT
DTSTART;TZID=America/New_York:20241010T120000
DTEND;TZID=America/New_York:20241010T130000
DTSTAMP:20260426T001119
CREATED:20240904T145809Z
LAST-MODIFIED:20240904T145809Z
UID:4852-1728561600-1728565200@portal.mvcommunityservices.org
SUMMARY:DEI Lunch and Learn Series: Intersection of Race & Immigration Law
DESCRIPTION:We’re excited to come together to kick off FY25 Lunch & Learn Series. For this semester we’ll explore Diversity\, Equity\, and Inclusion conversations and discussions with community members and MVCS staff\, while enjoying delicious company and appetizers. These will take place on the second Thursday of each month\, from 12-1PM.  \n10 OCTOBER 2024 \nIntersection of Race & Immigration Law \nCorey Lazar: Immigration Lawyer
URL:https://portal.mvcommunityservices.org/event/dei-lunch-and-learn-series-intersection-of-race-immigration-law/
LOCATION:IWYC Conference Room
ORGANIZER;CN="Taina Chaves":MAILTO:tchaves@mvcommunityservices.org
END:VEVENT
BEGIN:VEVENT
DTSTART;TZID=America/New_York:20241027T130000
DTEND;TZID=America/New_York:20241027T160000
DTSTAMP:20260426T001119
CREATED:20241018T135619Z
LAST-MODIFIED:20241018T135739Z
UID:5083-1730034000-1730044800@portal.mvcommunityservices.org
SUMMARY:Hatched Holiday Crafting Days
DESCRIPTION:Come help us prepare materials for Hatched holiday sales!
URL:https://portal.mvcommunityservices.org/event/hatched-holiday-crafting-days/
LOCATION:MA
ORGANIZER;CN="Courtney Atkins":MAILTO:catkins@mvcommunityservices.org
END:VEVENT
BEGIN:VEVENT
DTSTART;TZID=America/New_York:20241028T170000
DTEND;TZID=America/New_York:20241028T190000
DTSTAMP:20260426T001119
CREATED:20241018T135028Z
LAST-MODIFIED:20241018T135028Z
UID:5080-1730134800-1730142000@portal.mvcommunityservices.org
SUMMARY:Chicken Alley Open House - for teens only
DESCRIPTION:Help me spread the word – it should be pretty fun!!!
URL:https://portal.mvcommunityservices.org/event/chicken-alley-open-house-for-teens-only/
LOCATION:Chicken Alley Thrift Shop\, 38 Lagoon Pond Rd.\, Vineyard Haven\, MA\, 02568
ORGANIZER;CN="Courtney Atkins":MAILTO:catkins@mvcommunityservices.org
END:VEVENT
BEGIN:VEVENT
DTSTART;VALUE=DATE:20241030
DTEND;VALUE=DATE:20241031
DTSTAMP:20260426T001119
CREATED:20241008T095732Z
LAST-MODIFIED:20241008T095732Z
UID:5058-1730246400-1730332799@portal.mvcommunityservices.org
SUMMARY:In-Service Training Day
DESCRIPTION:Please see your supervisor for more details.
URL:https://portal.mvcommunityservices.org/event/in-service-training-day-2/
LOCATION:MA
END:VEVENT
END:VCALENDAR