BEGIN:VCALENDAR
VERSION:2.0
PRODID:-//Employee Portal - ECPv6.15.20//NONSGML v1.0//EN
CALSCALE:GREGORIAN
METHOD:PUBLISH
X-ORIGINAL-URL:https://portal.mvcommunityservices.org
X-WR-CALDESC:Events for Employee Portal
REFRESH-INTERVAL;VALUE=DURATION:PT1H
X-Robots-Tag:noindex
X-PUBLISHED-TTL:PT1H
BEGIN:VTIMEZONE
TZID:America/New_York
BEGIN:DAYLIGHT
TZOFFSETFROM:-0500
TZOFFSETTO:-0400
TZNAME:EDT
DTSTART:20240310T070000
END:DAYLIGHT
BEGIN:STANDARD
TZOFFSETFROM:-0400
TZOFFSETTO:-0500
TZNAME:EST
DTSTART:20241103T060000
END:STANDARD
BEGIN:DAYLIGHT
TZOFFSETFROM:-0500
TZOFFSETTO:-0400
TZNAME:EDT
DTSTART:20250309T070000
END:DAYLIGHT
BEGIN:STANDARD
TZOFFSETFROM:-0400
TZOFFSETTO:-0500
TZNAME:EST
DTSTART:20251102T060000
END:STANDARD
BEGIN:DAYLIGHT
TZOFFSETFROM:-0500
TZOFFSETTO:-0400
TZNAME:EDT
DTSTART:20260308T070000
END:DAYLIGHT
BEGIN:STANDARD
TZOFFSETFROM:-0400
TZOFFSETTO:-0500
TZNAME:EST
DTSTART:20261101T060000
END:STANDARD
END:VTIMEZONE
BEGIN:VEVENT
DTSTART;TZID=America/New_York:20250601T110000
DTEND;TZID=America/New_York:20250601T170000
DTSTAMP:20260425T095533
CREATED:20250522T133636Z
LAST-MODIFIED:20250522T135334Z
UID:5819-1748775600-1748797200@portal.mvcommunityservices.org
SUMMARY:2nd Annual Brazil Fest/Festa do Brasil
DESCRIPTION:Sunday\, June 1st from 11 AM–5 PM at the Ag Hall. \nJoin us for a a vibrant rural celebration of unity and diversity! \nOrganized by MV Mediation\, the festival promises to be a fun-filled day celebrating the island’s rich Brazilian and rural culture\, and the many traditions and talents that make up our diverse community. \n\nCOST: FREE and open to all!  Music\, Dance\, Food\, Games\, Kids Activities\, Farm Animals – Fun for All \nBRAZIL FEST – A community festival celebrating Brazil and the Island’s rural roots. \n2nd Annual Brazil Fest/Festa do Brasil — The Martha’s Vineyard Agricultural Society
URL:https://portal.mvcommunityservices.org/event/2nd-annual-brazil-fest-festa-do-brasil/
LOCATION:Agricultural Hall\, 35 Panhandle Road\, West Tisbury\, MA\, United States
END:VEVENT
BEGIN:VEVENT
DTSTART;TZID=America/New_York:20250607T090000
DTEND;TZID=America/New_York:20250607T140000
DTSTAMP:20260425T095533
CREATED:20250522T130257Z
LAST-MODIFIED:20250522T130257Z
UID:5809-1749286800-1749304800@portal.mvcommunityservices.org
SUMMARY:Electronics Disposal Day
DESCRIPTION:Electronics Disposal Day is an opportunity to dispose of your old\, tired and used electronics on Island in an environmentally safe way. \nHow does EDD work? Great question! If you know exactly what you are bringing\, you can expedite the process by prepaying. Please bring a printed receipt with you to the event. Otherwise\, volunteers will help you tally your electronics and safely dispose of them for you. Payment is accepted via check or credit card (no cash please) and all proceeds benefit both MV Community Services and MVRHS. \nElectronics Disposal Day – Martha’s Vineyard Community Services
URL:https://portal.mvcommunityservices.org/event/electronics-disposal-day-3/
LOCATION:MVRHS
CATEGORIES:Development
END:VEVENT
BEGIN:VEVENT
DTSTART;TZID=America/New_York:20250614T150000
DTEND;TZID=America/New_York:20250614T180000
DTSTAMP:20260425T095533
CREATED:20250522T141314Z
LAST-MODIFIED:20250522T141314Z
UID:5828-1749913200-1749924000@portal.mvcommunityservices.org
SUMMARY:2025 Pride Weekend
DESCRIPTION:Celebrate Pride on Martha’s Vineyard!\n\n\n\n\n\nKick off the weekend with a high-energy dance party at the iconic dive bar\, The Ritz. March with pride in the vibrant Oak Bluffs parade\, and close out the festivities with an incredible drag show you won’t forget. It’s a weekend full of love\, unity\, and unforgettable moments on the Island of Martha’s Vineyard. \nCome as you are and shine with us!
URL:https://portal.mvcommunityservices.org/event/2025-pride-weekend/
LOCATION:Ocean Park Gazebo\, Oak Bluffs
CATEGORIES:MV Community
END:VEVENT
BEGIN:VEVENT
DTSTART;TZID=America/New_York:20250621T100000
DTEND;TZID=America/New_York:20250621T180000
DTSTAMP:20260425T095533
CREATED:20250618T173003Z
LAST-MODIFIED:20250618T174336Z
UID:5953-1750500000-1750528800@portal.mvcommunityservices.org
SUMMARY:Harbor Fest OB
DESCRIPTION:Enjoy Oak Bluffs Harbor with family & friends! Stroll up Circuit Ave & down Kennebec Ave. Visit the Shops & Eateries. \nRaindate: Sunday\, June 22 \nFUN for ALL \nISLAND ARTISTS | LOCAL MERCHANTS | LIVE MUSIC (Ends at 6pm) | ENTERTAINMENT | GREAT FOOD \n 
URL:https://portal.mvcommunityservices.org/event/harbor-fest-ob/
LOCATION:Ocean Park Gazebo\, Oak Bluffs
CATEGORIES:Peer Recovery Support Center
END:VEVENT
END:VCALENDAR